BEGIN:VCALENDAR
VERSION:2.0
PRODID:-//North Grand Mall - ECPv6.15.20//NONSGML v1.0//EN
CALSCALE:GREGORIAN
METHOD:PUBLISH
X-ORIGINAL-URL:https://northgrandmall.com
X-WR-CALDESC:Events for North Grand Mall
REFRESH-INTERVAL;VALUE=DURATION:PT1H
X-Robots-Tag:noindex
X-PUBLISHED-TTL:PT1H
BEGIN:VTIMEZONE
TZID:America/Chicago
BEGIN:DAYLIGHT
TZOFFSETFROM:-0600
TZOFFSETTO:-0500
TZNAME:CDT
DTSTART:20230312T080000
END:DAYLIGHT
BEGIN:STANDARD
TZOFFSETFROM:-0500
TZOFFSETTO:-0600
TZNAME:CST
DTSTART:20231105T070000
END:STANDARD
BEGIN:DAYLIGHT
TZOFFSETFROM:-0600
TZOFFSETTO:-0500
TZNAME:CDT
DTSTART:20240310T080000
END:DAYLIGHT
BEGIN:STANDARD
TZOFFSETFROM:-0500
TZOFFSETTO:-0600
TZNAME:CST
DTSTART:20241103T070000
END:STANDARD
BEGIN:DAYLIGHT
TZOFFSETFROM:-0600
TZOFFSETTO:-0500
TZNAME:CDT
DTSTART:20250309T080000
END:DAYLIGHT
BEGIN:STANDARD
TZOFFSETFROM:-0500
TZOFFSETTO:-0600
TZNAME:CST
DTSTART:20251102T070000
END:STANDARD
END:VTIMEZONE
BEGIN:VEVENT
DTSTART;TZID=America/Chicago:20241218T100000
DTEND;TZID=America/Chicago:20241218T200000
DTSTAMP:20260421T051445
CREATED:20241126T192839Z
LAST-MODIFIED:20241126T192839Z
UID:7044-1734516000-1734552000@northgrandmall.com
SUMMARY:Open Extended Hours!
DESCRIPTION:Christmas or New Year composition with cocoa\, marshmallows\, gingerbread cookies and christmas decorations \nNorth Grand will be open extended hours from now through Christmas Eve for all of your last minute gifts.
URL:https://northgrandmall.com/event/open-extended-hours-25/
LOCATION:North Grand Mall\, 2801 Grand Ave.\, Ames\, IA\, 50010\, United States
CATEGORIES:Mall Events
END:VEVENT
BEGIN:VEVENT
DTSTART;TZID=America/Chicago:20241218T130000
DTEND;TZID=America/Chicago:20241218T190000
DTSTAMP:20260421T051445
CREATED:20241127T161436Z
LAST-MODIFIED:20241127T161436Z
UID:7074-1734526800-1734548400@northgrandmall.com
SUMMARY:Ames Noon Kiwanis Gift Wrap
DESCRIPTION:Save time gift wrapping this year\, and support a good cause! The Ames Noon Kiwanis will offer gift wrap throughout the holiday season. All proceeds benefit local community projects for children. Find the gift wrap table just north of Center Court. Days and times vary.
URL:https://northgrandmall.com/event/ames-noon-kiwanis-gift-wrap-6/
LOCATION:North Grand Mall\, 2801 Grand Ave.\, Ames\, IA\, 50010\, United States
END:VEVENT
END:VCALENDAR