BEGIN:VCALENDAR
VERSION:2.0
PRODID:-//North Grand Mall - ECPv6.15.20//NONSGML v1.0//EN
CALSCALE:GREGORIAN
METHOD:PUBLISH
X-WR-CALNAME:North Grand Mall
X-ORIGINAL-URL:https://northgrandmall.com
X-WR-CALDESC:Events for North Grand Mall
REFRESH-INTERVAL;VALUE=DURATION:PT1H
X-Robots-Tag:noindex
X-PUBLISHED-TTL:PT1H
BEGIN:VTIMEZONE
TZID:America/Chicago
BEGIN:DAYLIGHT
TZOFFSETFROM:-0600
TZOFFSETTO:-0500
TZNAME:CDT
DTSTART:20230312T080000
END:DAYLIGHT
BEGIN:STANDARD
TZOFFSETFROM:-0500
TZOFFSETTO:-0600
TZNAME:CST
DTSTART:20231105T070000
END:STANDARD
BEGIN:DAYLIGHT
TZOFFSETFROM:-0600
TZOFFSETTO:-0500
TZNAME:CDT
DTSTART:20240310T080000
END:DAYLIGHT
BEGIN:STANDARD
TZOFFSETFROM:-0500
TZOFFSETTO:-0600
TZNAME:CST
DTSTART:20241103T070000
END:STANDARD
BEGIN:DAYLIGHT
TZOFFSETFROM:-0600
TZOFFSETTO:-0500
TZNAME:CDT
DTSTART:20250309T080000
END:DAYLIGHT
BEGIN:STANDARD
TZOFFSETFROM:-0500
TZOFFSETTO:-0600
TZNAME:CST
DTSTART:20251102T070000
END:STANDARD
END:VTIMEZONE
BEGIN:VEVENT
DTSTART;TZID=America/Chicago:20241231T100000
DTEND;TZID=America/Chicago:20241231T170000
DTSTAMP:20260419T074453
CREATED:20241126T191735Z
LAST-MODIFIED:20241126T191735Z
UID:7040-1735639200-1735664400@northgrandmall.com
SUMMARY:New Year's Eve
DESCRIPTION:North Grand Mall will be open from 10am – 5pm on New Year’s Eve. Flame n’ Skewer\, Inside Golf\, North Grand Cinema and Planet Fitness hours vary. Check their websites for details.\nHappy New Year from your friends at North Grand Mall!
URL:https://northgrandmall.com/event/new-years-eve-2/
LOCATION:North Grand Mall\, 2801 Grand Ave.\, Ames\, IA\, 50010\, United States
CATEGORIES:Mall Events
END:VEVENT
END:VCALENDAR