BEGIN:VCALENDAR
VERSION:2.0
PRODID:-//North Grand Mall - ECPv6.15.20//NONSGML v1.0//EN
CALSCALE:GREGORIAN
METHOD:PUBLISH
X-ORIGINAL-URL:https://northgrandmall.com
X-WR-CALDESC:Events for North Grand Mall
REFRESH-INTERVAL;VALUE=DURATION:PT1H
X-Robots-Tag:noindex
X-PUBLISHED-TTL:PT1H
BEGIN:VTIMEZONE
TZID:America/Chicago
BEGIN:DAYLIGHT
TZOFFSETFROM:-0600
TZOFFSETTO:-0500
TZNAME:CDT
DTSTART:20230312T080000
END:DAYLIGHT
BEGIN:STANDARD
TZOFFSETFROM:-0500
TZOFFSETTO:-0600
TZNAME:CST
DTSTART:20231105T070000
END:STANDARD
BEGIN:DAYLIGHT
TZOFFSETFROM:-0600
TZOFFSETTO:-0500
TZNAME:CDT
DTSTART:20240310T080000
END:DAYLIGHT
BEGIN:STANDARD
TZOFFSETFROM:-0500
TZOFFSETTO:-0600
TZNAME:CST
DTSTART:20241103T070000
END:STANDARD
BEGIN:DAYLIGHT
TZOFFSETFROM:-0600
TZOFFSETTO:-0500
TZNAME:CDT
DTSTART:20250309T080000
END:DAYLIGHT
BEGIN:STANDARD
TZOFFSETFROM:-0500
TZOFFSETTO:-0600
TZNAME:CST
DTSTART:20251102T070000
END:STANDARD
END:VTIMEZONE
BEGIN:VEVENT
DTSTART;TZID=America/Chicago:20240105T100000
DTEND;TZID=America/Chicago:20240107T170000
DTSTAMP:20260421T144826
CREATED:20240105T203016Z
LAST-MODIFIED:20240105T203016Z
UID:6826-1704448800-1704646800@northgrandmall.com
SUMMARY:North Grand Indoor Farmers' Market
DESCRIPTION:Visit the North Grand Indoor Farmers’ Market this weekend. The Market offers seasonal produce\, baked goods\, honey\, popcorn\, jams\, jellies\, goat milk soaps and lotions\, Pappardelle Pasta\, Amish baskets\, rugs\, handcrafted blankets\, Prairie Moon wines and so much more!! Open 10am – 6pm Friday & Saturday – 12pm – 5pm Sunday.
URL:https://northgrandmall.com/event/north-grand-indoor-farmers-market-70/
LOCATION:North Grand Mall\, 2801 Grand Ave.\, Ames\, IA\, 50010\, United States
CATEGORIES:NG Farmer's Market & Vendor Events
END:VEVENT
BEGIN:VEVENT
DTSTART;TZID=America/Chicago:20240106T100000
DTEND;TZID=America/Chicago:20240107T170000
DTSTAMP:20260421T144826
CREATED:20240105T202245Z
LAST-MODIFIED:20240105T202245Z
UID:6819-1704535200-1704646800@northgrandmall.com
SUMMARY:Jordan's Sports Cards\, Comics & Memorabilia Show
DESCRIPTION:Stop by Saturday and Sunday for Jordan’s Sports Cards\, Comics & Memorabilia Show at North Grand Mall! There will be an array of vintage and current sports cards\, comics and memorabilia. Multiple vendors with a large variety of collectables! The Show runs 10am – 7pm on Saturday and Noon – 5pm on Sunday.
URL:https://northgrandmall.com/event/jordans-sports-cards-comics-memorabilia-show-19/
LOCATION:North Grand Mall\, 2801 Grand Ave.\, Ames\, IA\, 50010\, United States
CATEGORIES:NG Farmer's Market & Vendor Events
END:VEVENT
BEGIN:VEVENT
DTSTART;TZID=America/Chicago:20240112T100000
DTEND;TZID=America/Chicago:20240114T170000
DTSTAMP:20260421T144826
CREATED:20240105T203102Z
LAST-MODIFIED:20240105T203102Z
UID:6828-1705053600-1705251600@northgrandmall.com
SUMMARY:North Grand Indoor Farmers' Market
DESCRIPTION:Visit the North Grand Indoor Farmers’ Market this weekend. The Market offers seasonal produce\, baked goods\, honey\, popcorn\, jams\, jellies\, goat milk soaps and lotions\, Pappardelle Pasta\, Amish baskets\, rugs\, handcrafted blankets\, Prairie Moon wines and so much more!! Open 10am – 6pm Friday & Saturday – 12pm – 5pm Sunday.
URL:https://northgrandmall.com/event/north-grand-indoor-farmers-market-71/
LOCATION:North Grand Mall\, 2801 Grand Ave.\, Ames\, IA\, 50010\, United States
CATEGORIES:NG Farmer's Market & Vendor Events
END:VEVENT
BEGIN:VEVENT
DTSTART;TZID=America/Chicago:20240119T100000
DTEND;TZID=America/Chicago:20240121T170000
DTSTAMP:20260421T144826
CREATED:20240105T202813Z
LAST-MODIFIED:20240105T202813Z
UID:6824-1705658400-1705856400@northgrandmall.com
SUMMARY:The Marketplace at North Grand
DESCRIPTION:The Marketplace at North Grand features a variety of Home Based Businesses selling their line of products. They are coming to North Grand Mall this weekend. Shop from home based business vendors such as Norwex\, Tupperware\, Tastefully Simple\, Avon and many more!!  The show runs 10am-7pm Saturday and Noon-5pm on Sunday.
URL:https://northgrandmall.com/event/the-marketplace-at-north-grand/
LOCATION:North Grand Mall\, 2801 Grand Ave.\, Ames\, IA\, 50010\, United States
CATEGORIES:NG Farmer's Market & Vendor Events
END:VEVENT
BEGIN:VEVENT
DTSTART;TZID=America/Chicago:20240119T100000
DTEND;TZID=America/Chicago:20240121T170000
DTSTAMP:20260421T144826
CREATED:20240105T203145Z
LAST-MODIFIED:20240105T203145Z
UID:6830-1705658400-1705856400@northgrandmall.com
SUMMARY:North Grand Indoor Farmers' Market
DESCRIPTION:Visit the North Grand Indoor Farmers’ Market this weekend. The Market offers seasonal produce\, baked goods\, honey\, popcorn\, jams\, jellies\, goat milk soaps and lotions\, Pappardelle Pasta\, Amish baskets\, rugs\, handcrafted blankets\, Prairie Moon wines and so much more!! Open 10am – 6pm Friday & Saturday – 12pm – 5pm Sunday.
URL:https://northgrandmall.com/event/north-grand-indoor-farmers-market-72/
LOCATION:North Grand Mall\, 2801 Grand Ave.\, Ames\, IA\, 50010\, United States
CATEGORIES:NG Farmer's Market & Vendor Events
END:VEVENT
BEGIN:VEVENT
DTSTART;TZID=America/Chicago:20240126T100000
DTEND;TZID=America/Chicago:20240128T170000
DTSTAMP:20260421T144826
CREATED:20240105T203227Z
LAST-MODIFIED:20240105T203227Z
UID:6832-1706263200-1706461200@northgrandmall.com
SUMMARY:North Grand Indoor Farmers' Market
DESCRIPTION:Visit the North Grand Indoor Farmers’ Market this weekend. The Market offers seasonal produce\, baked goods\, honey\, popcorn\, jams\, jellies\, goat milk soaps and lotions\, Pappardelle Pasta\, Amish baskets\, rugs\, handcrafted blankets\, Prairie Moon wines and so much more!! Open 10am – 6pm Friday & Saturday – 12pm – 5pm Sunday.
URL:https://northgrandmall.com/event/north-grand-indoor-farmers-market-73/
LOCATION:North Grand Mall\, 2801 Grand Ave.\, Ames\, IA\, 50010\, United States
CATEGORIES:NG Farmer's Market & Vendor Events
END:VEVENT
END:VCALENDAR