BEGIN:VCALENDAR
VERSION:2.0
PRODID:-//North Grand Mall - ECPv6.15.20//NONSGML v1.0//EN
CALSCALE:GREGORIAN
METHOD:PUBLISH
X-WR-CALNAME:North Grand Mall
X-ORIGINAL-URL:https://northgrandmall.com
X-WR-CALDESC:Events for North Grand Mall
REFRESH-INTERVAL;VALUE=DURATION:PT1H
X-Robots-Tag:noindex
X-PUBLISHED-TTL:PT1H
BEGIN:VTIMEZONE
TZID:America/Chicago
BEGIN:DAYLIGHT
TZOFFSETFROM:-0600
TZOFFSETTO:-0500
TZNAME:CDT
DTSTART:20230312T080000
END:DAYLIGHT
BEGIN:STANDARD
TZOFFSETFROM:-0500
TZOFFSETTO:-0600
TZNAME:CST
DTSTART:20231105T070000
END:STANDARD
BEGIN:DAYLIGHT
TZOFFSETFROM:-0600
TZOFFSETTO:-0500
TZNAME:CDT
DTSTART:20240310T080000
END:DAYLIGHT
BEGIN:STANDARD
TZOFFSETFROM:-0500
TZOFFSETTO:-0600
TZNAME:CST
DTSTART:20241103T070000
END:STANDARD
BEGIN:DAYLIGHT
TZOFFSETFROM:-0600
TZOFFSETTO:-0500
TZNAME:CDT
DTSTART:20250309T080000
END:DAYLIGHT
BEGIN:STANDARD
TZOFFSETFROM:-0500
TZOFFSETTO:-0600
TZNAME:CST
DTSTART:20251102T070000
END:STANDARD
END:VTIMEZONE
BEGIN:VEVENT
DTSTART;TZID=America/Chicago:20240202T100000
DTEND;TZID=America/Chicago:20240204T170000
DTSTAMP:20260421T131054
CREATED:20240130T173147Z
LAST-MODIFIED:20240130T173147Z
UID:6844-1706868000-1707066000@northgrandmall.com
SUMMARY:North Grand Indoor Farmers' Market
DESCRIPTION:Visit the North Grand Indoor Farmers’ Market this weekend. The Market offers seasonal produce\, baked goods\, honey\, popcorn\, jams\, jellies\, goat milk soaps and lotions\, Pappardelle Pasta\, Amish baskets\, rugs\, handcrafted blankets\, Prairie Moon wines and so much more!! Open 10am – 6pm Friday & Saturday – 12pm – 5pm Sunday.
URL:https://northgrandmall.com/event/north-grand-indoor-farmers-market-74/
LOCATION:North Grand Mall\, 2801 Grand Ave.\, Ames\, IA\, 50010\, United States
CATEGORIES:NG Farmer's Market & Vendor Events
END:VEVENT
BEGIN:VEVENT
DTSTART;TZID=America/Chicago:20240203T100000
DTEND;TZID=America/Chicago:20240204T170000
DTSTAMP:20260421T131054
CREATED:20240105T202424Z
LAST-MODIFIED:20240105T202424Z
UID:6821-1706954400-1707066000@northgrandmall.com
SUMMARY:Jordan's Sports Cards\, Comics & Memorabilia Show
DESCRIPTION:Stop by Saturday and Sunday for Jordan’s Sports Cards\, Comics & Memorabilia Show at North Grand Mall! There will be an array of vintage and current sports cards\, comics and memorabilia. Multiple vendors with a large variety of collectables! The Show runs 10am – 7pm on Saturday and Noon – 5pm on Sunday.
URL:https://northgrandmall.com/event/jordans-sports-cards-comics-memorabilia-show-20/
LOCATION:North Grand Mall\, 2801 Grand Ave.\, Ames\, IA\, 50010\, United States
CATEGORIES:NG Farmer's Market & Vendor Events
END:VEVENT
BEGIN:VEVENT
DTSTART;TZID=America/Chicago:20240209T100000
DTEND;TZID=America/Chicago:20240211T170000
DTSTAMP:20260421T131054
CREATED:20240130T173240Z
LAST-MODIFIED:20240130T173240Z
UID:6846-1707472800-1707670800@northgrandmall.com
SUMMARY:North Grand Indoor Farmers' Market
DESCRIPTION:Visit the North Grand Indoor Farmers’ Market this weekend. The Market offers seasonal produce\, baked goods\, honey\, popcorn\, jams\, jellies\, goat milk soaps and lotions\, Pappardelle Pasta\, Amish baskets\, rugs\, handcrafted blankets\, Prairie Moon wines and so much more!! Open 10am – 6pm Friday & Saturday – 12pm – 5pm Sunday.
URL:https://northgrandmall.com/event/north-grand-indoor-farmers-market-75/
LOCATION:North Grand Mall\, 2801 Grand Ave.\, Ames\, IA\, 50010\, United States
CATEGORIES:NG Farmer's Market & Vendor Events
END:VEVENT
BEGIN:VEVENT
DTSTART;TZID=America/Chicago:20240216T100000
DTEND;TZID=America/Chicago:20240218T170000
DTSTAMP:20260421T131054
CREATED:20240130T173327Z
LAST-MODIFIED:20240130T173327Z
UID:6848-1708077600-1708275600@northgrandmall.com
SUMMARY:North Grand Indoor Farmers' Market
DESCRIPTION:Visit the North Grand Indoor Farmers’ Market this weekend. The Market offers seasonal produce\, baked goods\, honey\, popcorn\, jams\, jellies\, goat milk soaps and lotions\, Pappardelle Pasta\, Amish baskets\, rugs\, handcrafted blankets\, Prairie Moon wines and so much more!! Open 10am – 6pm Friday & Saturday – 12pm – 5pm Sunday.
URL:https://northgrandmall.com/event/north-grand-indoor-farmers-market-76/
LOCATION:North Grand Mall\, 2801 Grand Ave.\, Ames\, IA\, 50010\, United States
CATEGORIES:NG Farmer's Market & Vendor Events
END:VEVENT
BEGIN:VEVENT
DTSTART;TZID=America/Chicago:20240223T100000
DTEND;TZID=America/Chicago:20240225T170000
DTSTAMP:20260421T131054
CREATED:20240130T173415Z
LAST-MODIFIED:20240130T173415Z
UID:6850-1708682400-1708880400@northgrandmall.com
SUMMARY:North Grand Indoor Farmers' Market
DESCRIPTION:Visit the North Grand Indoor Farmers’ Market this weekend. The Market offers seasonal produce\, baked goods\, honey\, popcorn\, jams\, jellies\, goat milk soaps and lotions\, Pappardelle Pasta\, Amish baskets\, rugs\, handcrafted blankets\, Prairie Moon wines and so much more!! Open 10am – 6pm Friday & Saturday – 12pm – 5pm Sunday.
URL:https://northgrandmall.com/event/north-grand-indoor-farmers-market-77/
LOCATION:North Grand Mall\, 2801 Grand Ave.\, Ames\, IA\, 50010\, United States
CATEGORIES:NG Farmer's Market & Vendor Events
END:VEVENT
END:VCALENDAR