BEGIN:VCALENDAR
VERSION:2.0
PRODID:-//North Grand Mall - ECPv6.15.20//NONSGML v1.0//EN
CALSCALE:GREGORIAN
METHOD:PUBLISH
X-ORIGINAL-URL:https://northgrandmall.com
X-WR-CALDESC:Events for North Grand Mall
REFRESH-INTERVAL;VALUE=DURATION:PT1H
X-Robots-Tag:noindex
X-PUBLISHED-TTL:PT1H
BEGIN:VTIMEZONE
TZID:America/Chicago
BEGIN:DAYLIGHT
TZOFFSETFROM:-0600
TZOFFSETTO:-0500
TZNAME:CDT
DTSTART:20240310T080000
END:DAYLIGHT
BEGIN:STANDARD
TZOFFSETFROM:-0500
TZOFFSETTO:-0600
TZNAME:CST
DTSTART:20241103T070000
END:STANDARD
BEGIN:DAYLIGHT
TZOFFSETFROM:-0600
TZOFFSETTO:-0500
TZNAME:CDT
DTSTART:20250309T080000
END:DAYLIGHT
BEGIN:STANDARD
TZOFFSETFROM:-0500
TZOFFSETTO:-0600
TZNAME:CST
DTSTART:20251102T070000
END:STANDARD
BEGIN:DAYLIGHT
TZOFFSETFROM:-0600
TZOFFSETTO:-0500
TZNAME:CDT
DTSTART:20260308T080000
END:DAYLIGHT
BEGIN:STANDARD
TZOFFSETFROM:-0500
TZOFFSETTO:-0600
TZNAME:CST
DTSTART:20261101T070000
END:STANDARD
END:VTIMEZONE
BEGIN:VEVENT
DTSTART;TZID=America/Chicago:20251128T070000
DTEND;TZID=America/Chicago:20251128T200000
DTSTAMP:20260421T082911
CREATED:20251124T192522Z
LAST-MODIFIED:20251124T192652Z
UID:7248-1764313200-1764360000@northgrandmall.com
SUMMARY:Black Friday at North Grand Mall
DESCRIPTION:Bring on the Black Friday deals at North Grand Mall! Here are store opening times: \nEARLY OPENINGS: \nDunham’s Sports – Opens at 4am – Use North Doors until 6am \nJCPenney’s – Opens at 5am with special deals happening throughout the day! \nBath & Body Works – Opens at 6am with specials on Holiday gifts for you and yours! \nThe Mall and the rest of the stores will be open at 7am. \nHappy Black Friday shopping!!
URL:https://northgrandmall.com/event/black-friday-at-north-grand-mall/
LOCATION:North Grand Mall\, 2801 Grand Ave.\, Ames\, IA\, 50010\, United States
CATEGORIES:NG Farmer's Market & Vendor Events
END:VEVENT
BEGIN:VEVENT
DTSTART;TZID=America/Chicago:20251128T080000
DTEND;TZID=America/Chicago:20251130T170000
DTSTAMP:20260421T082911
CREATED:20250821T161731Z
LAST-MODIFIED:20250821T161731Z
UID:7190-1764316800-1764522000@northgrandmall.com
SUMMARY:The Marketplace at North Grand
DESCRIPTION:The Marketplace at North Grand features a variety of Home Based Businesses selling their line of products. They are coming to North Grand Mall this weekend. Shop from home based business vendors such as Pampered Chef\, Norwex\, Tupperware\, Tastefully Simple\, Avon\, Cindy’s Creations\,  Bomb Party\, Young Living and more!! The show runs 10am-7pm Friday & Saturday and Noon-5pm on Sunday.
URL:https://northgrandmall.com/event/the-marketplace-at-north-grand-23/
LOCATION:North Grand Mall\, 2801 Grand Ave.\, Ames\, IA\, 50010\, United States
CATEGORIES:NG Farmer's Market & Vendor Events
END:VEVENT
END:VCALENDAR