BEGIN:VCALENDAR
VERSION:2.0
PRODID:-//North Grand Mall - ECPv6.15.20//NONSGML v1.0//EN
CALSCALE:GREGORIAN
METHOD:PUBLISH
X-ORIGINAL-URL:https://northgrandmall.com
X-WR-CALDESC:Events for North Grand Mall
REFRESH-INTERVAL;VALUE=DURATION:PT1H
X-Robots-Tag:noindex
X-PUBLISHED-TTL:PT1H
BEGIN:VTIMEZONE
TZID:America/Chicago
BEGIN:DAYLIGHT
TZOFFSETFROM:-0600
TZOFFSETTO:-0500
TZNAME:CDT
DTSTART:20210314T080000
END:DAYLIGHT
BEGIN:STANDARD
TZOFFSETFROM:-0500
TZOFFSETTO:-0600
TZNAME:CST
DTSTART:20211107T070000
END:STANDARD
BEGIN:DAYLIGHT
TZOFFSETFROM:-0600
TZOFFSETTO:-0500
TZNAME:CDT
DTSTART:20220313T080000
END:DAYLIGHT
BEGIN:STANDARD
TZOFFSETFROM:-0500
TZOFFSETTO:-0600
TZNAME:CST
DTSTART:20221106T070000
END:STANDARD
BEGIN:DAYLIGHT
TZOFFSETFROM:-0600
TZOFFSETTO:-0500
TZNAME:CDT
DTSTART:20230312T080000
END:DAYLIGHT
BEGIN:STANDARD
TZOFFSETFROM:-0500
TZOFFSETTO:-0600
TZNAME:CST
DTSTART:20231105T070000
END:STANDARD
BEGIN:DAYLIGHT
TZOFFSETFROM:-0600
TZOFFSETTO:-0500
TZNAME:CDT
DTSTART:20240310T080000
END:DAYLIGHT
BEGIN:STANDARD
TZOFFSETFROM:-0500
TZOFFSETTO:-0600
TZNAME:CST
DTSTART:20241103T070000
END:STANDARD
END:VTIMEZONE
BEGIN:VEVENT
DTSTART;TZID=America/Chicago:20230922T100000
DTEND;TZID=America/Chicago:20230924T170000
DTSTAMP:20260421T080508
CREATED:20230915T155827Z
LAST-MODIFIED:20230915T155827Z
UID:6650-1695376800-1695574800@northgrandmall.com
SUMMARY:North Grand Indoor Farmers' Market
DESCRIPTION:Visit the North Grand Indoor Farmers’ Market this weekend. The Market offers seasonal produce\, baked goods\, honey\, popcorn\, jams\, jellies\, goat milk soaps and lotions\, Pappardelle Pasta\, Amish baskets\, rugs\, handcrafted blankets\, Prairie Moon wines and so much more!! Open 10am – 6pm Friday & Saturday – 12pm – 5pm Sunday.
URL:https://northgrandmall.com/event/north-grand-indoor-farmers-market-58/
LOCATION:North Grand Mall\, 2801 Grand Ave.\, Ames\, IA\, 50010\, United States
CATEGORIES:NG Farmer's Market & Vendor Events
END:VEVENT
BEGIN:VEVENT
DTSTART;TZID=America/Chicago:20230922T100000
DTEND;TZID=America/Chicago:20230924T170000
DTSTAMP:20260421T080508
CREATED:20230106T160926Z
LAST-MODIFIED:20230106T161254Z
UID:6482-1695376800-1695574800@northgrandmall.com
SUMMARY:The Marketplace at North Grand Vendor Show
DESCRIPTION:The Marketplace at North Grand features a variety of Home Based Businesses selling their line of products. They are coming to North Grand Mall this weekend. Shop from home based business vendors such as Pampered Chef\, Tupperware\, Tastefully Simple\, Avon and many more!!  The show runs 10am-8pm Friday & Saturday and Noon-5pm on Sunday.
URL:https://northgrandmall.com/event/the-marketplace-at-north-grand-vendor-show-17/
LOCATION:North Grand Mall\, 2801 Grand Ave.\, Ames\, IA\, 50010\, United States
CATEGORIES:NG Farmer's Market & Vendor Events
END:VEVENT
BEGIN:VEVENT
DTSTART;TZID=America/Chicago:20230915T100000
DTEND;TZID=America/Chicago:20230917T170000
DTSTAMP:20260421T080508
CREATED:20230915T155729Z
LAST-MODIFIED:20230915T155729Z
UID:6648-1694772000-1694970000@northgrandmall.com
SUMMARY:North Grand Indoor Farmers' Market
DESCRIPTION:Visit the North Grand Indoor Farmers’ Market this weekend. The Market offers seasonal produce\, baked goods\, honey\, popcorn\, jams\, jellies\, goat milk soaps and lotions\, Pappardelle Pasta\, Amish baskets\, rugs\, handcrafted blankets\, Prairie Moon wines and so much more!! Open 10am – 6pm Friday & Saturday – 12pm – 5pm Sunday.
URL:https://northgrandmall.com/event/north-grand-indoor-farmers-market-57/
LOCATION:North Grand Mall\, 2801 Grand Ave.\, Ames\, IA\, 50010\, United States
CATEGORIES:NG Farmer's Market & Vendor Events
END:VEVENT
BEGIN:VEVENT
DTSTART;TZID=America/Chicago:20230826T100000
DTEND;TZID=America/Chicago:20230827T170000
DTSTAMP:20260421T080508
CREATED:20230106T160811Z
LAST-MODIFIED:20230106T160811Z
UID:6480-1693044000-1693155600@northgrandmall.com
SUMMARY:Jordan's Sports Cards\, Comics & Memorabilia Show
DESCRIPTION:Join us Saturday and Sunday for Jordan’s Sports Cards\, Comics & Memorabilia Show at North Grand Mall! There will be an array of vintage and current sports cards\, comics and memorabilia. Multiple vendors with a large variety of collectables! The Show runs 10am – 7pm on Saturday and Noon – 5pm on Sunday.
URL:https://northgrandmall.com/event/jordans-sports-cards-comics-memorabilia-show-17/
LOCATION:North Grand Mall\, 2801 Grand Ave.\, Ames\, IA\, 50010\, United States
CATEGORIES:NG Farmer's Market & Vendor Events
END:VEVENT
BEGIN:VEVENT
DTSTART;TZID=America/Chicago:20230624T100000
DTEND;TZID=America/Chicago:20230625T170000
DTSTAMP:20260421T080508
CREATED:20230106T160718Z
LAST-MODIFIED:20230106T160718Z
UID:6478-1687600800-1687712400@northgrandmall.com
SUMMARY:Jordan's Sports Cards\, Comics & Memorabilia Show
DESCRIPTION:Join us Saturday and Sunday for Jordan’s Sports Cards\, Comics & Memorabilia Show at North Grand Mall! There will be an array of vintage and current sports cards\, comics and memorabilia. Multiple vendors with a large variety of collectables! The Show runs 10am – 7pm on Saturday and Noon – 5pm on Sunday.
URL:https://northgrandmall.com/event/jordans-sports-cards-comics-memorabilia-show-16/
LOCATION:North Grand Mall\, 2801 Grand Ave.\, Ames\, IA\, 50010\, United States
CATEGORIES:NG Farmer's Market & Vendor Events
END:VEVENT
BEGIN:VEVENT
DTSTART;TZID=America/Chicago:20230519T100000
DTEND;TZID=America/Chicago:20230521T170000
DTSTAMP:20260421T080508
CREATED:20230106T160325Z
LAST-MODIFIED:20230106T161212Z
UID:6469-1684490400-1684688400@northgrandmall.com
SUMMARY:The Marketplace at North Grand Vendor Show
DESCRIPTION:The Marketplace at North Grand features a variety of Home Based Businesses selling their line of products. They are coming to North Grand Mall this weekend. Shop from home based business vendors such as Pampered Chef\, Tupperware\, Tastefully Simple\, Avon and many more!!  The show runs 10am-8pm Friday & Saturday and Noon-5pm on Sunday.
URL:https://northgrandmall.com/event/the-marketplace-at-north-grand-vendor-show-16/
LOCATION:North Grand Mall\, 2801 Grand Ave.\, Ames\, IA\, 50010\, United States
CATEGORIES:NG Farmer's Market & Vendor Events
END:VEVENT
BEGIN:VEVENT
DTSTART;TZID=America/Chicago:20230429T100000
DTEND;TZID=America/Chicago:20230430T170000
DTSTAMP:20260421T080508
CREATED:20230106T160623Z
LAST-MODIFIED:20230106T160623Z
UID:6476-1682762400-1682874000@northgrandmall.com
SUMMARY:Jordan's Sports Cards\, Comics & Memorabilia Show
DESCRIPTION:Join us Saturday and Sunday for Jordan’s Sports Cards\, Comics & Memorabilia Show at North Grand Mall! There will be an array of vintage and current sports cards\, comics and memorabilia. Multiple vendors with a large variety of collectables! The Show runs 10am – 7pm on Saturday and Noon – 5pm on Sunday.
URL:https://northgrandmall.com/event/jordans-sports-cards-comics-memorabilia-show-15/
LOCATION:North Grand Mall\, 2801 Grand Ave.\, Ames\, IA\, 50010\, United States
CATEGORIES:NG Farmer's Market & Vendor Events
END:VEVENT
BEGIN:VEVENT
DTSTART;TZID=America/Chicago:20230421T100000
DTEND;TZID=America/Chicago:20230423T170000
DTSTAMP:20260421T080508
CREATED:20230106T160232Z
LAST-MODIFIED:20230106T161122Z
UID:6467-1682071200-1682269200@northgrandmall.com
SUMMARY:The Marketplace at North Grand Vendor Show
DESCRIPTION:The Marketplace at North Grand features a variety of Home Based Businesses selling their line of products. They are coming to North Grand Mall this weekend. Shop from home based business vendors such as Pampered Chef\, Tupperware\, Tastefully Simple\, Avon and many more!!  The show runs 10am-8pm Friday & Saturday and Noon-5pm on Sunday.
URL:https://northgrandmall.com/event/the-marketplace-at-north-grand-vendor-show-15/
LOCATION:North Grand Mall\, 2801 Grand Ave.\, Ames\, IA\, 50010\, United States
CATEGORIES:NG Farmer's Market & Vendor Events
END:VEVENT
BEGIN:VEVENT
DTSTART;TZID=America/Chicago:20230415T110000
DTEND;TZID=America/Chicago:20230415T140000
DTSTAMP:20260421T080508
CREATED:20230410T195522Z
LAST-MODIFIED:20230410T195522Z
UID:6553-1681556400-1681567200@northgrandmall.com
SUMMARY:#GetAJOB Fair
DESCRIPTION:Get ready for the #GetAJob Fair on Saturday\, April 15 from 11am – 2pm inside North Grand Mall\, IA \nJob seekers from the age of 14-24 will have a great opportunity to learn more about available jobs in Story and Boone County for the upcoming summer and beyond! \nThis Summer Job Fair will feature local employers\, swag bags\, and prize winners throughout the day. They can’t wait to see you there
URL:https://northgrandmall.com/event/getajob-fair/
LOCATION:North Grand Mall\, 2801 Grand Ave.\, Ames\, IA\, 50010\, United States
CATEGORIES:NG Farmer's Market & Vendor Events
END:VEVENT
BEGIN:VEVENT
DTSTART;TZID=America/Chicago:20230324T100000
DTEND;TZID=America/Chicago:20230326T170000
DTSTAMP:20260421T080508
CREATED:20230317T152919Z
LAST-MODIFIED:20230317T152919Z
UID:6542-1679652000-1679850000@northgrandmall.com
SUMMARY:Vinyl Record & Electronics Show
DESCRIPTION:Vinyl records and record players are becoming all the rage again! Shop for your favorite artists at the Vintage Record & Electronics Show on August 27th & 28th. There will be several vendors showcasing their vinyl collections as well as record players\, stereo systems and much more! You don’t want to miss this chance to add to your collection or start one! \nBrought to you by Noble Entertainment\,LLC
URL:https://northgrandmall.com/event/vinyl-record-electronics-show-3/
LOCATION:North Grand Mall\, 2801 Grand Ave.\, Ames\, IA\, 50010\, United States
CATEGORIES:NG Farmer's Market & Vendor Events
END:VEVENT
BEGIN:VEVENT
DTSTART;TZID=America/Chicago:20230318T100000
DTEND;TZID=America/Chicago:20230319T170000
DTSTAMP:20260421T080508
CREATED:20230106T160021Z
LAST-MODIFIED:20230106T160021Z
UID:6465-1679133600-1679245200@northgrandmall.com
SUMMARY:The Marketplace at North Grand Vendor Show
DESCRIPTION:The Marketplace at North Grand features a variety of Home Based Businesses selling their line of products. They are coming to North Grand Mall this weekend. Shop from home based business vendors such as Pampered Chef\, Tupperware\, Tastefully Simple\, Avon and many more!!  The show runs 10am-8pm Saturday and Noon-5pm on Sunday.
URL:https://northgrandmall.com/event/the-marketplace-at-north-grand-vendor-show-14/
LOCATION:North Grand Mall\, 2801 Grand Ave.\, Ames\, IA\, 50010\, United States
CATEGORIES:NG Farmer's Market & Vendor Events
END:VEVENT
BEGIN:VEVENT
DTSTART;TZID=America/Chicago:20230304T100000
DTEND;TZID=America/Chicago:20230305T170000
DTSTAMP:20260421T080508
CREATED:20230106T160532Z
LAST-MODIFIED:20230106T160532Z
UID:6474-1677924000-1678035600@northgrandmall.com
SUMMARY:Jordan's Sports Cards\, Comics & Memorabilia Show
DESCRIPTION:Join us Saturday and Sunday for Jordan’s Sports Cards\, Comics & Memorabilia Show at North Grand Mall! There will be an array of vintage and current sports cards\, comics and memorabilia. Multiple vendors with a large variety of collectables! The Show runs 10am – 7pm on Saturday and Noon – 5pm on Sunday.
URL:https://northgrandmall.com/event/jordans-sports-cards-comics-memorabilia-show-14/
LOCATION:North Grand Mall\, 2801 Grand Ave.\, Ames\, IA\, 50010\, United States
CATEGORIES:NG Farmer's Market & Vendor Events
END:VEVENT
BEGIN:VEVENT
DTSTART;TZID=America/Chicago:20230211T100000
DTEND;TZID=America/Chicago:20230212T170000
DTSTAMP:20260421T080508
CREATED:20230106T155926Z
LAST-MODIFIED:20230106T155926Z
UID:6463-1676109600-1676221200@northgrandmall.com
SUMMARY:The Marketplace at North Grand Vendor Show
DESCRIPTION:The Marketplace at North Grand features a variety of Home Based Businesses selling their line of products. They are coming to North Grand Mall this weekend. Shop from home based business vendors such as Pampered Chef\, Tupperware\, Tastefully Simple\, Avon and many more!!  The show runs 10am-8pm Saturday and Noon-5pm on Sunday.
URL:https://northgrandmall.com/event/the-marketplace-at-north-grand-vendor-show-13/
LOCATION:North Grand Mall\, 2801 Grand Ave.\, Ames\, IA\, 50010\, United States
CATEGORIES:NG Farmer's Market & Vendor Events
END:VEVENT
BEGIN:VEVENT
DTSTART;TZID=America/Chicago:20230204T100000
DTEND;TZID=America/Chicago:20230205T170000
DTSTAMP:20260421T080508
CREATED:20230106T160445Z
LAST-MODIFIED:20230106T160445Z
UID:6472-1675504800-1675616400@northgrandmall.com
SUMMARY:Jordan's Sports Cards\, Comics & Memorabilia Show
DESCRIPTION:Join us Saturday and Sunday for Jordan’s Sports Cards\, Comics & Memorabilia Show at North Grand Mall! There will be an array of vintage and current sports cards\, comics and memorabilia. Multiple vendors with a large variety of collectables! The Show runs 10am – 7pm on Saturday and Noon – 5pm on Sunday.
URL:https://northgrandmall.com/event/jordans-sports-cards-comics-memorabilia-show-13/
LOCATION:North Grand Mall\, 2801 Grand Ave.\, Ames\, IA\, 50010\, United States
CATEGORIES:NG Farmer's Market & Vendor Events
END:VEVENT
BEGIN:VEVENT
DTSTART;TZID=America/Chicago:20230121T100000
DTEND;TZID=America/Chicago:20230122T170000
DTSTAMP:20260421T080508
CREATED:20230106T155835Z
LAST-MODIFIED:20230106T155835Z
UID:6461-1674295200-1674406800@northgrandmall.com
SUMMARY:The Marketplace at North Grand Vendor Show
DESCRIPTION:The Marketplace at North Grand features a variety of Home Based Businesses selling their line of products. They are coming to North Grand Mall this weekend. Shop from home based business vendors such as Pampered Chef\, Tupperware\, Tastefully Simple\, Avon and many more!!  The show runs 10am-8pm Saturday and Noon-5pm on Sunday.
URL:https://northgrandmall.com/event/the-marketplace-at-north-grand-vendor-show-12/
LOCATION:North Grand Mall\, 2801 Grand Ave.\, Ames\, IA\, 50010\, United States
CATEGORIES:NG Farmer's Market & Vendor Events
END:VEVENT
BEGIN:VEVENT
DTSTART;TZID=America/Chicago:20230107T100000
DTEND;TZID=America/Chicago:20230108T170000
DTSTAMP:20260421T080508
CREATED:20230106T155520Z
LAST-MODIFIED:20230106T155520Z
UID:6459-1673085600-1673197200@northgrandmall.com
SUMMARY:Jordan's Sports Cards\, Comics & Memorabilia Show
DESCRIPTION:Join us Saturday and Sunday for Jordan’s Sports Cards\, Comics & Memorabilia Show at North Grand Mall! There will be an array of vintage and current sports cards\, comics and memorabilia. Multiple vendors with a large variety of collectables! The Show runs 10am – 7pm on Saturday and Noon – 5pm on Sunday.
URL:https://northgrandmall.com/event/jordans-sports-cards-comics-memorabilia-show-12/
LOCATION:North Grand Mall\, 2801 Grand Ave.\, Ames\, IA\, 50010\, United States
CATEGORIES:NG Farmer's Market & Vendor Events
END:VEVENT
BEGIN:VEVENT
DTSTART;TZID=America/Chicago:20221230T100000
DTEND;TZID=America/Chicago:20221231T160000
DTSTAMP:20260421T080508
CREATED:20221010T162426Z
LAST-MODIFIED:20221010T162440Z
UID:6318-1672394400-1672502400@northgrandmall.com
SUMMARY:North Grand Indoor Farmers' Market
DESCRIPTION:Visit the North Grand Indoor Farmers’ Market this weekend. The Market offers seasonal produce\, baked goods\, honey\, popcorn\, jams\, jellies\, goat milk soaps and lotions\, Pappardelle Pasta\, Amish baskets\, rugs\, handcrafted blankets\, Prairie Moon wines and so much more!! Open 10am – 6pm Friday & Saturday.
URL:https://northgrandmall.com/event/north-grand-indoor-farmers-market-56/
LOCATION:North Grand Mall\, 2801 Grand Ave.\, Ames\, IA\, 50010\, United States
CATEGORIES:NG Farmer's Market & Vendor Events
END:VEVENT
BEGIN:VEVENT
DTSTART;TZID=America/Chicago:20221223T100000
DTEND;TZID=America/Chicago:20221224T160000
DTSTAMP:20260421T080508
CREATED:20221010T162328Z
LAST-MODIFIED:20221010T162527Z
UID:6316-1671789600-1671897600@northgrandmall.com
SUMMARY:North Grand Indoor Farmers' Market
DESCRIPTION:Visit the North Grand Indoor Farmers’ Market this weekend. The Market offers seasonal produce\, baked goods\, honey\, popcorn\, jams\, jellies\, goat milk soaps and lotions\, Pappardelle Pasta\, Amish baskets\, rugs\, handcrafted blankets\, Prairie Moon wines and so much more!! Open 10am – 6pm Friday & Saturday.
URL:https://northgrandmall.com/event/north-grand-indoor-farmers-market-55/
LOCATION:North Grand Mall\, 2801 Grand Ave.\, Ames\, IA\, 50010\, United States
CATEGORIES:NG Farmer's Market & Vendor Events
END:VEVENT
BEGIN:VEVENT
DTSTART;TZID=America/Chicago:20221216T100000
DTEND;TZID=America/Chicago:20221218T170000
DTSTAMP:20260421T080508
CREATED:20221010T162238Z
LAST-MODIFIED:20221010T162238Z
UID:6314-1671184800-1671382800@northgrandmall.com
SUMMARY:North Grand Indoor Farmers' Market
DESCRIPTION:Visit the North Grand Indoor Farmers’ Market this weekend. The Market offers seasonal produce\, baked goods\, honey\, popcorn\, jams\, jellies\, goat milk soaps and lotions\, Pappardelle Pasta\, Amish baskets\, rugs\, handcrafted blankets\, Prairie Moon wines and so much more!! Open 10am – 6pm Friday & Saturday – 12pm – 5pm Sunday.
URL:https://northgrandmall.com/event/north-grand-indoor-farmers-market-54/
LOCATION:North Grand Mall\, 2801 Grand Ave.\, Ames\, IA\, 50010\, United States
CATEGORIES:NG Farmer's Market & Vendor Events
END:VEVENT
BEGIN:VEVENT
DTSTART;TZID=America/Chicago:20221216T100000
DTEND;TZID=America/Chicago:20221218T170000
DTSTAMP:20260421T080508
CREATED:20220104T153130Z
LAST-MODIFIED:20220106T222635Z
UID:5902-1671184800-1671382800@northgrandmall.com
SUMMARY:The Marketplace at North Grand Vendor Show
DESCRIPTION:The Marketplace at North Grand features a variety of Home Based Businesses selling their line of products. They are coming to North Grand Mall December 16th – 18th. Shop from home based business vendors such as Pampered Chef\, Tupperware\, Tastefully Simple\, Avon and many more!!  The show runs 10am-8pm Friday & Saturday and Noon-5pm on Sunday.
URL:https://northgrandmall.com/event/the-marketplace-at-north-grand-vendor-show-10/
LOCATION:North Grand Mall\, 2801 Grand Ave.\, Ames\, IA\, 50010\, United States
CATEGORIES:NG Farmer's Market & Vendor Events
END:VEVENT
BEGIN:VEVENT
DTSTART;TZID=America/Chicago:20221209T100000
DTEND;TZID=America/Chicago:20221211T170000
DTSTAMP:20260421T080508
CREATED:20221010T162159Z
LAST-MODIFIED:20221010T162159Z
UID:6312-1670580000-1670778000@northgrandmall.com
SUMMARY:North Grand Indoor Farmers' Market
DESCRIPTION:Visit the North Grand Indoor Farmers’ Market this weekend. The Market offers seasonal produce\, baked goods\, honey\, popcorn\, jams\, jellies\, goat milk soaps and lotions\, Pappardelle Pasta\, Amish baskets\, rugs\, handcrafted blankets\, Prairie Moon wines and so much more!! Open 10am – 6pm Friday & Saturday – 12pm – 5pm Sunday.
URL:https://northgrandmall.com/event/north-grand-indoor-farmers-market-53/
LOCATION:North Grand Mall\, 2801 Grand Ave.\, Ames\, IA\, 50010\, United States
CATEGORIES:NG Farmer's Market & Vendor Events
END:VEVENT
BEGIN:VEVENT
DTSTART;TZID=America/Chicago:20221209T100000
DTEND;TZID=America/Chicago:20221211T170000
DTSTAMP:20260421T080508
CREATED:20220104T153413Z
LAST-MODIFIED:20220104T153413Z
UID:5904-1670580000-1670778000@northgrandmall.com
SUMMARY:The Marketplace at North Grand Vendor Show
DESCRIPTION:The Marketplace at North Grand features a variety of Home Based Businesses selling their line of products. They are coming to North Grand Mall December 9th – 11th. Shop from home based business vendors such as Pampered Chef\, Tupperware\, Tastefully Simple\, Avon and many more!!  The show runs 10am-8pm Friday & Saturday and Noon-5pm on Sunday.
URL:https://northgrandmall.com/event/the-marketplace-at-north-grand-vendor-show-11/
LOCATION:North Grand Mall\, 2801 Grand Ave.\, Ames\, IA\, 50010\, United States
CATEGORIES:NG Farmer's Market & Vendor Events
END:VEVENT
BEGIN:VEVENT
DTSTART;TZID=America/Chicago:20221202T100000
DTEND;TZID=America/Chicago:20221204T170000
DTSTAMP:20260421T080508
CREATED:20221010T162121Z
LAST-MODIFIED:20221010T162121Z
UID:6310-1669975200-1670173200@northgrandmall.com
SUMMARY:North Grand Indoor Farmers' Market
DESCRIPTION:Visit the North Grand Indoor Farmers’ Market this weekend. The Market offers seasonal produce\, baked goods\, honey\, popcorn\, jams\, jellies\, goat milk soaps and lotions\, Pappardelle Pasta\, Amish baskets\, rugs\, handcrafted blankets\, Prairie Moon wines and so much more!! Open 10am – 6pm Friday & Saturday – 12pm – 5pm Sunday.
URL:https://northgrandmall.com/event/north-grand-indoor-farmers-market-52/
LOCATION:North Grand Mall\, 2801 Grand Ave.\, Ames\, IA\, 50010\, United States
CATEGORIES:NG Farmer's Market & Vendor Events
END:VEVENT
BEGIN:VEVENT
DTSTART;TZID=America/Chicago:20221202T100000
DTEND;TZID=America/Chicago:20221204T170000
DTSTAMP:20260421T080508
CREATED:20220104T152924Z
LAST-MODIFIED:20220104T152924Z
UID:5900-1669975200-1670173200@northgrandmall.com
SUMMARY:The Marketplace at North Grand Vendor Show
DESCRIPTION:The Marketplace at North Grand features a variety of Home Based Businesses selling their line of products. They are coming to North Grand Mall December 2nd – 4th. Shop from home based business vendors such as Pampered Chef\, Tupperware\, Tastefully Simple\, Avon and many more!!  The show runs 10am-8pm Friday & Saturday and Noon-5pm on Sunday.
URL:https://northgrandmall.com/event/the-marketplace-at-north-grand-vendor-show-9/
LOCATION:North Grand Mall\, 2801 Grand Ave.\, Ames\, IA\, 50010\, United States
CATEGORIES:NG Farmer's Market & Vendor Events
END:VEVENT
BEGIN:VEVENT
DTSTART;TZID=America/Chicago:20221125T100000
DTEND;TZID=America/Chicago:20221127T170000
DTSTAMP:20260421T080508
CREATED:20221010T162032Z
LAST-MODIFIED:20221010T162032Z
UID:6308-1669370400-1669568400@northgrandmall.com
SUMMARY:North Grand Indoor Farmers' Market
DESCRIPTION:Visit the North Grand Indoor Farmers’ Market this weekend. The Market offers seasonal produce\, baked goods\, honey\, popcorn\, jams\, jellies\, goat milk soaps and lotions\, Pappardelle Pasta\, Amish baskets\, rugs\, handcrafted blankets\, Prairie Moon wines and so much more!! Open 10am – 6pm Friday & Saturday – 12pm – 5pm Sunday.
URL:https://northgrandmall.com/event/north-grand-indoor-farmers-market-51/
LOCATION:North Grand Mall\, 2801 Grand Ave.\, Ames\, IA\, 50010\, United States
CATEGORIES:NG Farmer's Market & Vendor Events
END:VEVENT
BEGIN:VEVENT
DTSTART;TZID=America/Chicago:20221125T100000
DTEND;TZID=America/Chicago:20221127T170000
DTSTAMP:20260421T080508
CREATED:20220104T152811Z
LAST-MODIFIED:20220104T152811Z
UID:5898-1669370400-1669568400@northgrandmall.com
SUMMARY:The Marketplace at North Grand Vendor Show
DESCRIPTION:The Marketplace at North Grand features a variety of Home Based Businesses selling their line of products. They are coming to North Grand Mall November 25th – 27th. Shop from home based business vendors such as Pampered Chef\, Tupperware\, Tastefully Simple\, Avon and many more!!  The show runs 10am-8pm Friday & Saturday and Noon-5pm on Sunday.
URL:https://northgrandmall.com/event/the-marketplace-at-north-grand-vendor-show-8/
LOCATION:North Grand Mall\, 2801 Grand Ave.\, Ames\, IA\, 50010\, United States
CATEGORIES:NG Farmer's Market & Vendor Events
END:VEVENT
BEGIN:VEVENT
DTSTART;TZID=America/Chicago:20221118T100000
DTEND;TZID=America/Chicago:20221120T170000
DTSTAMP:20260421T080508
CREATED:20221010T161948Z
LAST-MODIFIED:20221010T161948Z
UID:6306-1668765600-1668963600@northgrandmall.com
SUMMARY:North Grand Indoor Farmers' Market
DESCRIPTION:Visit the North Grand Indoor Farmers’ Market this weekend. The Market offers seasonal produce\, baked goods\, honey\, popcorn\, jams\, jellies\, goat milk soaps and lotions\, Pappardelle Pasta\, Amish baskets\, rugs\, handcrafted blankets\, Prairie Moon wines and so much more!! Open 10am – 6pm Friday & Saturday – 12pm – 5pm Sunday.
URL:https://northgrandmall.com/event/north-grand-indoor-farmers-market-50/
LOCATION:North Grand Mall\, 2801 Grand Ave.\, Ames\, IA\, 50010\, United States
CATEGORIES:NG Farmer's Market & Vendor Events
END:VEVENT
BEGIN:VEVENT
DTSTART;TZID=America/Chicago:20221111T100000
DTEND;TZID=America/Chicago:20221113T170000
DTSTAMP:20260421T080508
CREATED:20221010T161803Z
LAST-MODIFIED:20221010T161803Z
UID:6304-1668160800-1668358800@northgrandmall.com
SUMMARY:North Grand Indoor Farmers' Market
DESCRIPTION:Visit the North Grand Indoor Farmers’ Market this weekend. The Market offers seasonal produce\, baked goods\, honey\, popcorn\, jams\, jellies\, goat milk soaps and lotions\, Pappardelle Pasta\, Amish baskets\, rugs\, handcrafted blankets\, Prairie Moon wines and so much more!! Open 10am – 6pm Friday & Saturday – 12pm – 5pm Sunday.
URL:https://northgrandmall.com/event/north-grand-indoor-farmers-market-49/
LOCATION:North Grand Mall\, 2801 Grand Ave.\, Ames\, IA\, 50010\, United States
CATEGORIES:NG Farmer's Market & Vendor Events
END:VEVENT
BEGIN:VEVENT
DTSTART;TZID=America/Chicago:20221104T100000
DTEND;TZID=America/Chicago:20221106T170000
DTSTAMP:20260421T080508
CREATED:20221010T161709Z
LAST-MODIFIED:20221010T161709Z
UID:6302-1667556000-1667754000@northgrandmall.com
SUMMARY:North Grand Indoor Farmers' Market
DESCRIPTION:Visit the North Grand Indoor Farmers’ Market this weekend. The Market offers seasonal produce\, baked goods\, honey\, popcorn\, jams\, jellies\, goat milk soaps and lotions\, Pappardelle Pasta\, Amish baskets\, rugs\, handcrafted blankets\, Prairie Moon wines and so much more!! Open 10am – 6pm Friday & Saturday – 12pm – 5pm Sunday.
URL:https://northgrandmall.com/event/north-grand-indoor-farmers-market-48/
LOCATION:North Grand Mall\, 2801 Grand Ave.\, Ames\, IA\, 50010\, United States
CATEGORIES:NG Farmer's Market & Vendor Events
END:VEVENT
BEGIN:VEVENT
DTSTART;TZID=America/Chicago:20221028T100000
DTEND;TZID=America/Chicago:20221030T170000
DTSTAMP:20260421T080508
CREATED:20221010T161512Z
LAST-MODIFIED:20221010T161512Z
UID:6298-1666951200-1667149200@northgrandmall.com
SUMMARY:North Grand Indoor Farmers' Market
DESCRIPTION:Visit the North Grand Indoor Farmers’ Market this weekend. The Market offers seasonal produce\, baked goods\, honey\, popcorn\, jams\, jellies\, goat milk soaps and lotions\, Pappardelle Pasta\, Amish baskets\, rugs\, handcrafted blankets\, Prairie Moon wines and so much more!! Open 10am – 6pm Friday & Saturday – 12pm – 5pm Sunday.
URL:https://northgrandmall.com/event/north-grand-indoor-farmers-market-46/
LOCATION:North Grand Mall\, 2801 Grand Ave.\, Ames\, IA\, 50010\, United States
CATEGORIES:NG Farmer's Market & Vendor Events
END:VEVENT
END:VCALENDAR