BEGIN:VCALENDAR
VERSION:2.0
PRODID:-//North Grand Mall - ECPv6.15.20//NONSGML v1.0//EN
CALSCALE:GREGORIAN
METHOD:PUBLISH
X-WR-CALNAME:North Grand Mall
X-ORIGINAL-URL:https://northgrandmall.com
X-WR-CALDESC:Events for North Grand Mall
REFRESH-INTERVAL;VALUE=DURATION:PT1H
X-Robots-Tag:noindex
X-PUBLISHED-TTL:PT1H
BEGIN:VTIMEZONE
TZID:America/Chicago
BEGIN:DAYLIGHT
TZOFFSETFROM:-0600
TZOFFSETTO:-0500
TZNAME:CDT
DTSTART:20200308T080000
END:DAYLIGHT
BEGIN:STANDARD
TZOFFSETFROM:-0500
TZOFFSETTO:-0600
TZNAME:CST
DTSTART:20201101T070000
END:STANDARD
BEGIN:DAYLIGHT
TZOFFSETFROM:-0600
TZOFFSETTO:-0500
TZNAME:CDT
DTSTART:20210314T080000
END:DAYLIGHT
BEGIN:STANDARD
TZOFFSETFROM:-0500
TZOFFSETTO:-0600
TZNAME:CST
DTSTART:20211107T070000
END:STANDARD
BEGIN:DAYLIGHT
TZOFFSETFROM:-0600
TZOFFSETTO:-0500
TZNAME:CDT
DTSTART:20220313T080000
END:DAYLIGHT
BEGIN:STANDARD
TZOFFSETFROM:-0500
TZOFFSETTO:-0600
TZNAME:CST
DTSTART:20221106T070000
END:STANDARD
BEGIN:DAYLIGHT
TZOFFSETFROM:-0600
TZOFFSETTO:-0500
TZNAME:CDT
DTSTART:20230312T080000
END:DAYLIGHT
BEGIN:STANDARD
TZOFFSETFROM:-0500
TZOFFSETTO:-0600
TZNAME:CST
DTSTART:20231105T070000
END:STANDARD
END:VTIMEZONE
BEGIN:VEVENT
DTSTART;TZID=America/Chicago:20220709T080000
DTEND;TZID=America/Chicago:20220709T123000
DTSTAMP:20260421T173652
CREATED:20220512T161702Z
LAST-MODIFIED:20220512T161702Z
UID:6093-1657353600-1657369800@northgrandmall.com
SUMMARY:North Grand Outdoor Farmers' Market
DESCRIPTION:Visit the North Grand Outdoor Farmers’ Market every Saturday from 8:00am-12:30pm\, located just north of JCPenney. The Market offers seasonal produce\, plants\, eggs\, spring veggies and so much more. Call or text 515-231-9036 for additional information.
URL:https://northgrandmall.com/event/north-grand-outdoor-farmers-market-28/
LOCATION:North Grand Mall\, 2801 Grand Ave.\, Ames\, IA\, 50010\, United States
CATEGORIES:NG Farmer's Market & Vendor Events
END:VEVENT
BEGIN:VEVENT
DTSTART;TZID=America/Chicago:20220702T080000
DTEND;TZID=America/Chicago:20220702T123000
DTSTAMP:20260421T173652
CREATED:20220512T161617Z
LAST-MODIFIED:20220512T161617Z
UID:6091-1656748800-1656765000@northgrandmall.com
SUMMARY:North Grand Outdoor Farmers' Market
DESCRIPTION:Visit the North Grand Outdoor Farmers’ Market every Saturday from 8:00am-12:30pm\, located just north of JCPenney. The Market offers seasonal produce\, plants\, eggs\, spring veggies and so much more. Call or text 515-231-9036 for additional information.
URL:https://northgrandmall.com/event/north-grand-outdoor-farmers-market-27/
LOCATION:North Grand Mall\, 2801 Grand Ave.\, Ames\, IA\, 50010\, United States
CATEGORIES:NG Farmer's Market & Vendor Events
END:VEVENT
BEGIN:VEVENT
DTSTART;TZID=America/Chicago:20220625T080000
DTEND;TZID=America/Chicago:20220625T123000
DTSTAMP:20260421T173652
CREATED:20220512T161535Z
LAST-MODIFIED:20220512T161535Z
UID:6089-1656144000-1656160200@northgrandmall.com
SUMMARY:North Grand Outdoor Farmers' Market
DESCRIPTION:Visit the North Grand Outdoor Farmers’ Market every Saturday from 8:00am-12:30pm\, located just north of JCPenney. The Market offers seasonal produce\, plants\, eggs\, spring veggies and so much more. Call or text 515-231-9036 for additional information.
URL:https://northgrandmall.com/event/north-grand-outdoor-farmers-market-26/
LOCATION:North Grand Mall\, 2801 Grand Ave.\, Ames\, IA\, 50010\, United States
CATEGORIES:NG Farmer's Market & Vendor Events
END:VEVENT
BEGIN:VEVENT
DTSTART;TZID=America/Chicago:20220618T080000
DTEND;TZID=America/Chicago:20220618T123000
DTSTAMP:20260421T173652
CREATED:20220512T161110Z
LAST-MODIFIED:20220524T190318Z
UID:6085-1655539200-1655555400@northgrandmall.com
SUMMARY:North Grand Outdoor Farmers' Market
DESCRIPTION:Visit the North Grand Outdoor Farmers’ Market every Saturday from 8:00am-12:30pm\, located just north of JCPenney. The Market offers seasonal produce\, plants\, eggs\, spring veggies and so much more. Call or text 515-231-9036 for additional information.
URL:https://northgrandmall.com/event/north-grand-farmers-market-2/
LOCATION:North Grand Mall\, 2801 Grand Ave.\, Ames\, IA\, 50010\, United States
CATEGORIES:NG Farmer's Market & Vendor Events
END:VEVENT
BEGIN:VEVENT
DTSTART;TZID=America/Chicago:20220611T080000
DTEND;TZID=America/Chicago:20220611T123000
DTSTAMP:20260421T173652
CREATED:20220512T161027Z
LAST-MODIFIED:20220512T161027Z
UID:6083-1654934400-1654950600@northgrandmall.com
SUMMARY:North Grand Outdoor Farmers' Market
DESCRIPTION:Visit the North Grand Outdoor Farmers’ Market every Saturday from 8:00am-12:30pm\, located just north of JCPenney. The Market offers seasonal produce\, plants\, eggs\, spring veggies and so much more. Call or text 515-231-9036 for additional information.
URL:https://northgrandmall.com/event/north-grand-outdoor-farmers-market-24/
LOCATION:North Grand Mall\, 2801 Grand Ave.\, Ames\, IA\, 50010\, United States
CATEGORIES:NG Farmer's Market & Vendor Events
END:VEVENT
BEGIN:VEVENT
DTSTART;TZID=America/Chicago:20220604T080000
DTEND;TZID=America/Chicago:20220604T123000
DTSTAMP:20260421T173652
CREATED:20220512T160905Z
LAST-MODIFIED:20220512T160905Z
UID:6081-1654329600-1654345800@northgrandmall.com
SUMMARY:North Grand Outdoor Farmers' Market
DESCRIPTION:Visit the North Grand Outdoor Farmers’ Market every Saturday from 8:00am-12:30pm\, located just north of JCPenney. The Market offers seasonal produce\, plants\, eggs\, spring veggies and so much more. Call or text 515-231-9036 for additional information.
URL:https://northgrandmall.com/event/north-grand-outdoor-farmers-market-23/
LOCATION:North Grand Mall\, 2801 Grand Ave.\, Ames\, IA\, 50010\, United States
CATEGORIES:NG Farmer's Market & Vendor Events
END:VEVENT
BEGIN:VEVENT
DTSTART;TZID=America/Chicago:20220528T080000
DTEND;TZID=America/Chicago:20220528T123000
DTSTAMP:20260421T173652
CREATED:20220512T160809Z
LAST-MODIFIED:20220512T160817Z
UID:6079-1653724800-1653741000@northgrandmall.com
SUMMARY:North Grand Outdoor Farmers' Market
DESCRIPTION:Visit the North Grand Outdoor Farmers’ Market every Saturday from 8:00am-12:30pm\, located just north of JCPenney. The Market offers seasonal produce\, plants\, eggs\, spring veggies and so much more. Call or text 515-231-9036 for additional information.
URL:https://northgrandmall.com/event/north-grand-outdoor-farmers-market-22/
LOCATION:North Grand Mall\, 2801 Grand Ave.\, Ames\, IA\, 50010\, United States
CATEGORIES:NG Farmer's Market & Vendor Events
END:VEVENT
BEGIN:VEVENT
DTSTART;TZID=America/Chicago:20220527T100000
DTEND;TZID=America/Chicago:20220529T170000
DTSTAMP:20260421T173652
CREATED:20220512T162341Z
LAST-MODIFIED:20220512T162341Z
UID:6106-1653645600-1653843600@northgrandmall.com
SUMMARY:North Grand Indoor Farmers' Market
DESCRIPTION:Visit the North Grand Indoor Farmers’ Market this weekend. The Market offers seasonal produce\, baked goods\, honey\, popcorn\, jams\, jellies\, goat milk soaps and lotions\, Pappardelle Pasta\, Amish baskets\, rugs\, handcrafted blankets\, handcrafted jewelry\, cards\, Prairie Moon wines and so much more!! Open 10am – 6pm Friday & Saturday – 12pm – 5pm Sunday.
URL:https://northgrandmall.com/event/north-grand-indoor-farmers-market-39/
LOCATION:North Grand Mall\, 2801 Grand Ave.\, Ames\, IA\, 50010\, United States
CATEGORIES:NG Farmer's Market & Vendor Events
END:VEVENT
BEGIN:VEVENT
DTSTART;TZID=America/Chicago:20220521T080000
DTEND;TZID=America/Chicago:20220521T123000
DTSTAMP:20260421T173652
CREATED:20220512T160556Z
LAST-MODIFIED:20220512T160556Z
UID:6077-1653120000-1653136200@northgrandmall.com
SUMMARY:North Grand Outdoor Farmers' Market
DESCRIPTION:Visit the North Grand Outdoor Farmers’ Market every Saturday from 8:00am-12:30pm\, located just north of JCPenney. The Market offers seasonal produce\, plants\, eggs\, spring veggies and so much more. Call or text 515-231-9036 for additional information.
URL:https://northgrandmall.com/event/north-grand-outdoor-farmers-market-21/
LOCATION:North Grand Mall\, 2801 Grand Ave.\, Ames\, IA\, 50010\, United States
CATEGORIES:NG Farmer's Market & Vendor Events
END:VEVENT
BEGIN:VEVENT
DTSTART;TZID=America/Chicago:20220520T100000
DTEND;TZID=America/Chicago:20220522T170000
DTSTAMP:20260421T173652
CREATED:20220512T162222Z
LAST-MODIFIED:20220512T162301Z
UID:6103-1653040800-1653238800@northgrandmall.com
SUMMARY:North Grand Indoor Farmers' Market
DESCRIPTION:Visit the North Grand Indoor Farmers’ Market this weekend. The Market offers seasonal produce\, baked goods\, honey\, popcorn\, jams\, jellies\, goat milk soaps and lotions\, Pappardelle Pasta\, Amish baskets\, rugs\, handcrafted blankets\, handcrafted jewelry\, cards\, Prairie Moon wines and so much more!! Open 10am – 6pm Friday & Saturday – 12pm – 5pm Sunday.
URL:https://northgrandmall.com/event/north-grand-indoor-farmers-market-38/
LOCATION:North Grand Mall\, 2801 Grand Ave.\, Ames\, IA\, 50010\, United States
CATEGORIES:NG Farmer's Market & Vendor Events
END:VEVENT
BEGIN:VEVENT
DTSTART;TZID=America/Chicago:20220520T100000
DTEND;TZID=America/Chicago:20220522T170000
DTSTAMP:20260421T173652
CREATED:20220104T152429Z
LAST-MODIFIED:20220222T214210Z
UID:5892-1653040800-1653238800@northgrandmall.com
SUMMARY:The Marketplace at North Grand Vendor Show
DESCRIPTION:The Marketplace at North Grand features a variety of Home Based Businesses selling their line of products. They are coming to North Grand Mall May 20th – 22th. Shop from home based business vendors such as Pampered Chef\, Tupperware\, Tastefully Simple\, Avon and many more!!  The show runs 10am-8pm Friday & Saturday and Noon-5pm on Sunday.
URL:https://northgrandmall.com/event/the-marketplace-at-north-grand-vendor-show-5/
LOCATION:North Grand Mall\, 2801 Grand Ave.\, Ames\, IA\, 50010\, United States
CATEGORIES:NG Farmer's Market & Vendor Events
END:VEVENT
BEGIN:VEVENT
DTSTART;TZID=America/Chicago:20220514T080000
DTEND;TZID=America/Chicago:20220514T123000
DTSTAMP:20260421T173652
CREATED:20220512T160513Z
LAST-MODIFIED:20220512T160513Z
UID:6075-1652515200-1652531400@northgrandmall.com
SUMMARY:North Grand Outdoor Farmers' Market
DESCRIPTION:Visit the North Grand Outdoor Farmers’ Market every Saturday from 8:00am-12:30pm\, located just north of JCPenney. The Market offers seasonal produce\, plants\, eggs\, spring veggies and so much more. Call or text 515-231-9036 for additional information.
URL:https://northgrandmall.com/event/north-grand-outdoor-farmers-market-20/
LOCATION:North Grand Mall\, 2801 Grand Ave.\, Ames\, IA\, 50010\, United States
CATEGORIES:NG Farmer's Market & Vendor Events
END:VEVENT
BEGIN:VEVENT
DTSTART;TZID=America/Chicago:20220513T100000
DTEND;TZID=America/Chicago:20220515T170000
DTSTAMP:20260421T173652
CREATED:20220512T162131Z
LAST-MODIFIED:20220512T162131Z
UID:6101-1652436000-1652634000@northgrandmall.com
SUMMARY:North Grand Indoor Farmers' Market
DESCRIPTION:Visit the North Grand Indoor Farmers’ Market this weekend. The Market offers seasonal produce\, baked goods\, honey\, popcorn\, jams\, jellies\, goat milk soaps and lotions\, Pappardelle Pasta\, Amish baskets\, rugs\, handcrafted blankets\, Prairie Moon wines and so much more!! Open 10am – 6pm Friday & Saturday – 12pm – 5pm Sunday.
URL:https://northgrandmall.com/event/north-grand-indoor-farmers-market-37/
LOCATION:North Grand Mall\, 2801 Grand Ave.\, Ames\, IA\, 50010\, United States
CATEGORIES:NG Farmer's Market & Vendor Events
END:VEVENT
BEGIN:VEVENT
DTSTART;TZID=America/Chicago:20220512T080000
DTEND;TZID=America/Chicago:20220512T123000
DTSTAMP:20260421T173652
CREATED:20220512T161351Z
LAST-MODIFIED:20220512T161351Z
UID:6087-1652342400-1652358600@northgrandmall.com
SUMMARY:North Grand Outdoor Farmers' Market
DESCRIPTION:Visit the North Grand Outdoor Farmers’ Market every Saturday from 8:00am-12:30pm\, located just north of JCPenney. The Market offers seasonal produce\, plants\, eggs\, spring veggies and so much more. Call or text 515-231-9036 for additional information.
URL:https://northgrandmall.com/event/north-grand-outdoor-farmers-market-25/
LOCATION:North Grand Mall\, 2801 Grand Ave.\, Ames\, IA\, 50010\, United States
CATEGORIES:NG Farmer's Market & Vendor Events
END:VEVENT
BEGIN:VEVENT
DTSTART;TZID=America/Chicago:20220507T080000
DTEND;TZID=America/Chicago:20220507T123000
DTSTAMP:20260421T173652
CREATED:20220512T160416Z
LAST-MODIFIED:20220512T160416Z
UID:6072-1651910400-1651926600@northgrandmall.com
SUMMARY:North Grand Outdoor Farmers' Market
DESCRIPTION:Visit the North Grand Outdoor Farmers’ Market every Saturday from 8:00am-12:30pm\, located just north of JCPenney. The Market offers seasonal produce\, plants\, eggs\, spring veggies and so much more. Call or text 515-231-9036 for additional information.
URL:https://northgrandmall.com/event/north-grand-outdoor-farmers-market-19/
LOCATION:North Grand Mall\, 2801 Grand Ave.\, Ames\, IA\, 50010\, United States
CATEGORIES:NG Farmer's Market & Vendor Events
END:VEVENT
BEGIN:VEVENT
DTSTART;TZID=America/Chicago:20220430T100000
DTEND;TZID=America/Chicago:20220501T170000
DTSTAMP:20260421T173652
CREATED:20220104T223924Z
LAST-MODIFIED:20220119T223355Z
UID:5917-1651312800-1651424400@northgrandmall.com
SUMMARY:Jordan's Sports Cards\, Comics & Memorabilia Show
DESCRIPTION:Join us Saturday and Sunday for Jordan’s Sports Cards\, Comics & Memorabilia Show at North Grand Mall! There will be an array of vintage and current sports cards\, comics and memorabilia. Multiple vendors with a large variety of collectables!  The Show runs 10am – 8pm on Saturday and Noon – 5pm on Sunday.
URL:https://northgrandmall.com/event/jordans-sports-cards-comics-memorabilia-show-9/
LOCATION:North Grand Mall\, 2801 Grand Ave.\, Ames\, IA\, 50010\, United States
CATEGORIES:NG Farmer's Market & Vendor Events
END:VEVENT
BEGIN:VEVENT
DTSTART;TZID=America/Chicago:20220422T100000
DTEND;TZID=America/Chicago:20220424T170000
DTSTAMP:20260421T173652
CREATED:20220104T152313Z
LAST-MODIFIED:20220422T214010Z
UID:5890-1650621600-1650819600@northgrandmall.com
SUMMARY:The Marketplace at North Grand Vendor Show
DESCRIPTION:The Marketplace at North Grand features a variety of Home Based Businesses selling their line of products. They are coming to North Grand Mall April 22nd – 24th. Shop from home based business vendors such as Pampered Chef\, Tupperware\, Tastefully Simple\, Avon and many more!!  The show runs 10am-8pm Friday & Saturday and Noon-5pm on Sunday.
URL:https://northgrandmall.com/event/the-marketplace-at-north-grand-vendor-show-4/
LOCATION:North Grand Mall\, 2801 Grand Ave.\, Ames\, IA\, 50010\, United States
CATEGORIES:NG Farmer's Market & Vendor Events
END:VEVENT
BEGIN:VEVENT
DTSTART;TZID=America/Chicago:20220409T100000
DTEND;TZID=America/Chicago:20220410T170000
DTSTAMP:20260421T173652
CREATED:20220318T162109Z
LAST-MODIFIED:20220318T162422Z
UID:6032-1649498400-1649610000@northgrandmall.com
SUMMARY:Vinyl Records & Electronics Show
DESCRIPTION:Vinyl records and record players are becoming all the rage again! Shop for your favorite artists at the Vintage Record & Electronics Show on April 9th & 10th. There will be several vendors showcasing their vinyl collections as well as record players\, stereo systems and much more! You don’t want to miss this chance to add to your collection or start one! \nBrought to you by Noble Entertainment\,LLC
URL:https://northgrandmall.com/event/vinyl-records-electronics-show/
LOCATION:North Grand Mall\, 2801 Grand Ave.\, Ames\, IA\, 50010\, United States
CATEGORIES:NG Farmer's Market & Vendor Events
END:VEVENT
BEGIN:VEVENT
DTSTART;TZID=America/Chicago:20220409T100000
DTEND;TZID=America/Chicago:20220410T170000
DTSTAMP:20260421T173652
CREATED:20220228T200339Z
LAST-MODIFIED:20220228T200339Z
UID:5998-1649498400-1649610000@northgrandmall.com
SUMMARY:Vinyl Record & Electronics Show
DESCRIPTION:Vinyl records and record players are becoming all the rage again! Shop for your favorite artists at the Vintage Record & Electronics Show on April 9th & 10th. There will be several vendors showcasing their vinyl collections as well as record players\, stereo systems and much more! You don’t want to miss this chance to add to your collection or start one! \nBrought to you by Noble Entertainment\,LLC
URL:https://northgrandmall.com/event/vinyl-record-electronics-show/
LOCATION:North Grand Mall\, 2801 Grand Ave.\, Ames\, IA\, 50010\, United States
CATEGORIES:NG Farmer's Market & Vendor Events
END:VEVENT
BEGIN:VEVENT
DTSTART;TZID=America/Chicago:20220326T100000
DTEND;TZID=America/Chicago:20220327T170000
DTSTAMP:20260421T173652
CREATED:20220104T223829Z
LAST-MODIFIED:20220309T223458Z
UID:5915-1648288800-1648400400@northgrandmall.com
SUMMARY:Jordan's Sports Cards\, Comics & Memorabilia Show
DESCRIPTION:Join us Saturday and Sunday for Jordan’s Sports Cards\, Comics & Memorabilia Show at North Grand Mall! There will be an array of vintage and current sports cards\, comics and memorabilia. Multiple vendors with a large variety of collectables!  The Show runs 10am – 8pm on Saturday and Noon – 5pm on Sunday.
URL:https://northgrandmall.com/event/jordans-sports-cards-comics-memorabilia-show-8/
LOCATION:North Grand Mall\, 2801 Grand Ave.\, Ames\, IA\, 50010\, United States
CATEGORIES:NG Farmer's Market & Vendor Events
END:VEVENT
BEGIN:VEVENT
DTSTART;TZID=America/Chicago:20220325T100000
DTEND;TZID=America/Chicago:20220327T170000
DTSTAMP:20260421T173652
CREATED:20220316T190426Z
LAST-MODIFIED:20220316T190426Z
UID:6030-1648202400-1648400400@northgrandmall.com
SUMMARY:North Grand Indoor Farmers' Market
DESCRIPTION:Visit the North Grand Indoor Farmers’ Market this weekend. The Market offers seasonal produce\, baked goods\, honey\, popcorn\, jams\, jellies\, goat milk soaps and lotions\, Pappardelle Pasta\, Amish baskets\, rugs\, handcrafted blankets\, Prairie Moon wines and so much more!! Open 10am – 6pm Friday & Saturday – 12pm – 5pm Sunday. (Hours may vary)
URL:https://northgrandmall.com/event/north-grand-indoor-farmers-market-36/
LOCATION:North Grand Mall\, 2801 Grand Ave.\, Ames\, IA\, 50010\, United States
CATEGORIES:NG Farmer's Market & Vendor Events
END:VEVENT
BEGIN:VEVENT
DTSTART;TZID=America/Chicago:20220319T100000
DTEND;TZID=America/Chicago:20220320T170000
DTSTAMP:20260421T173652
CREATED:20220104T151449Z
LAST-MODIFIED:20220104T151449Z
UID:5888-1647684000-1647795600@northgrandmall.com
SUMMARY:The Marketplace at North Grand Vendor Show
DESCRIPTION:The Marketplace at North Grand features a variety of Home Based Businesses selling their line of products. They are coming to North Grand Mall March 19th – 20th. Shop from home based business vendors such as Pampered Chef\, Tupperware\, Tastefully Simple\, Avon and many more!!  The show runs 10am-8pm Saturday and Noon-5pm on Sunday.
URL:https://northgrandmall.com/event/the-marketplace-at-north-grand-vendor-show-3/
LOCATION:North Grand Mall\, 2801 Grand Ave.\, Ames\, IA\, 50010\, United States
CATEGORIES:NG Farmer's Market & Vendor Events
END:VEVENT
BEGIN:VEVENT
DTSTART;TZID=America/Chicago:20220318T100000
DTEND;TZID=America/Chicago:20220320T170000
DTSTAMP:20260421T173652
CREATED:20220316T190320Z
LAST-MODIFIED:20220316T190320Z
UID:6028-1647597600-1647795600@northgrandmall.com
SUMMARY:North Grand Indoor Farmers' Market
DESCRIPTION:Visit the North Grand Indoor Farmers’ Market this weekend. The Market offers seasonal produce\, baked goods\, honey\, popcorn\, jams\, jellies\, goat milk soaps and lotions\, Pappardelle Pasta\, Amish baskets\, rugs\, handcrafted blankets\, Prairie Moon wines and so much more!! Open 10am – 6pm Friday & Saturday – 12pm – 5pm Sunday. (Hours may vary)
URL:https://northgrandmall.com/event/north-grand-indoor-farmers-market-35/
LOCATION:North Grand Mall\, 2801 Grand Ave.\, Ames\, IA\, 50010\, United States
CATEGORIES:NG Farmer's Market & Vendor Events
END:VEVENT
BEGIN:VEVENT
DTSTART;TZID=America/Chicago:20220311T100000
DTEND;TZID=America/Chicago:20220313T170000
DTSTAMP:20260421T173652
CREATED:20220316T190233Z
LAST-MODIFIED:20220316T190233Z
UID:6026-1646992800-1647190800@northgrandmall.com
SUMMARY:North Grand Indoor Farmers' Market
DESCRIPTION:Visit the North Grand Indoor Farmers’ Market this weekend. The Market offers seasonal produce\, baked goods\, honey\, popcorn\, jams\, jellies\, goat milk soaps and lotions\, Pappardelle Pasta\, Amish baskets\, rugs\, handcrafted blankets\, Prairie Moon wines and so much more!! Open 10am – 6pm Friday & Saturday – 12pm – 5pm Sunday. (Hours may vary)
URL:https://northgrandmall.com/event/north-grand-indoor-farmers-market-34/
LOCATION:North Grand Mall\, 2801 Grand Ave.\, Ames\, IA\, 50010\, United States
CATEGORIES:NG Farmer's Market & Vendor Events
END:VEVENT
BEGIN:VEVENT
DTSTART;TZID=America/Chicago:20220304T100000
DTEND;TZID=America/Chicago:20220306T170000
DTSTAMP:20260421T173652
CREATED:20220316T190142Z
LAST-MODIFIED:20220316T190142Z
UID:6024-1646388000-1646586000@northgrandmall.com
SUMMARY:North Grand Indoor Farmers' Market
DESCRIPTION:Visit the North Grand Indoor Farmers’ Market this weekend. The Market offers seasonal produce\, baked goods\, honey\, popcorn\, jams\, jellies\, goat milk soaps and lotions\, Pappardelle Pasta\, Amish baskets\, rugs\, handcrafted blankets\, Prairie Moon wines and so much more!! Open 10am – 6pm Friday & Saturday – 12pm – 5pm Sunday. (Hours may vary)
URL:https://northgrandmall.com/event/north-grand-indoor-farmers-market-33/
LOCATION:North Grand Mall\, 2801 Grand Ave.\, Ames\, IA\, 50010\, United States
CATEGORIES:NG Farmer's Market & Vendor Events
END:VEVENT
BEGIN:VEVENT
DTSTART;TZID=America/Chicago:20220219T100000
DTEND;TZID=America/Chicago:20220220T170000
DTSTAMP:20260421T173652
CREATED:20220104T151326Z
LAST-MODIFIED:20220104T151326Z
UID:5886-1645264800-1645376400@northgrandmall.com
SUMMARY:The Marketplace at North Grand Vendor Show
DESCRIPTION:The Marketplace at North Grand features a variety of Home Based Businesses selling their line of products. They are coming to North Grand Mall February 19th – 20th. Shop from home based business vendors such as Pampered Chef\, Tupperware\, Tastefully Simple\, Avon and many more!!  The show runs 10am-8pm Saturday and Noon-5pm on Sunday.
URL:https://northgrandmall.com/event/the-marketplace-at-north-grand-vendor-show-2/
LOCATION:North Grand Mall\, 2801 Grand Ave.\, Ames\, IA\, 50010\, United States
CATEGORIES:NG Farmer's Market & Vendor Events
END:VEVENT
BEGIN:VEVENT
DTSTART;TZID=America/Chicago:20220205T100000
DTEND;TZID=America/Chicago:20220206T170000
DTSTAMP:20260421T173652
CREATED:20220104T223729Z
LAST-MODIFIED:20220202T223627Z
UID:5913-1644055200-1644166800@northgrandmall.com
SUMMARY:Jordan's Sports Cards\, Comics & Memorabilia Show
DESCRIPTION:Join us Saturday and Sunday for Jordan’s Sports Cards\, Comics & Memorabilia Show at North Grand Mall! There will be an array of vintage and current sports cards\, comics and memorabilia. Multiple vendors with a large variety of collectables!  The Show runs 10am – 8pm on Saturday and Noon – 5pm on Sunday.
URL:https://northgrandmall.com/event/jordans-sports-cards-comics-memorabilia-show-7/
LOCATION:North Grand Mall\, 2801 Grand Ave.\, Ames\, IA\, 50010\, United States
CATEGORIES:NG Farmer's Market & Vendor Events
END:VEVENT
BEGIN:VEVENT
DTSTART;TZID=America/Chicago:20220115T100000
DTEND;TZID=America/Chicago:20220116T170000
DTSTAMP:20260421T173652
CREATED:20220104T151217Z
LAST-MODIFIED:20220119T222520Z
UID:5884-1642240800-1642352400@northgrandmall.com
SUMMARY:The Marketplace at North Grand Vendor Show
DESCRIPTION:The Marketplace at North Grand features a variety of Home Based Businesses selling their line of products. They are coming to North Grand Mall January 15th – 16th. Shop from home based business vendors such as Pampered Chef\, Tupperware\, Tastefully Simple\, Avon and many more!!  The show runs 10am-8pm Saturday and Noon-5pm on Sunday.
URL:https://northgrandmall.com/event/the-marketplace-at-north-grand-vendor-show/
LOCATION:North Grand Mall\, 2801 Grand Ave.\, Ames\, IA\, 50010\, United States
CATEGORIES:NG Farmer's Market & Vendor Events
END:VEVENT
BEGIN:VEVENT
DTSTART;TZID=America/Chicago:20220108T100000
DTEND;TZID=America/Chicago:20220109T170000
DTSTAMP:20260421T173652
CREATED:20220104T145850Z
LAST-MODIFIED:20220104T223634Z
UID:5856-1641636000-1641747600@northgrandmall.com
SUMMARY:Jordan's Sports Cards\, Comics & Memorabilia Show
DESCRIPTION:Join us Saturday and Sunday for Jordan’s Sports Cards\, Comics & Memorabilia Show at North Grand Mall! There will be an array of vintage and current sports cards\, comics and memorabilia. Multiple vendors with a large variety of collectables!  The Show runs 10am – 8pm on Saturday and Noon – 5pm on Sunday.
URL:https://northgrandmall.com/event/jordans-sports-cards-comics-memorabilia-show-6/
LOCATION:North Grand Mall\, 2801 Grand Ave.\, Ames\, IA\, 50010\, United States
CATEGORIES:NG Farmer's Market & Vendor Events
END:VEVENT
BEGIN:VEVENT
DTSTART;TZID=America/Chicago:20211217T100000
DTEND;TZID=America/Chicago:20211220T170000
DTSTAMP:20260421T173652
CREATED:20211123T160610Z
LAST-MODIFIED:20211123T160610Z
UID:5822-1639735200-1640019600@northgrandmall.com
SUMMARY:North Grand Indoor Farmers' Market
DESCRIPTION:Visit the North Grand Indoor Farmers’ Market this weekend. The Market offers seasonal produce\, baked goods\, honey\, popcorn\, jams\, jellies\, goat milk soaps and lotions\, Pappardelle Pasta\, Amish baskets\, rugs\, handcrafted blankets\, Prairie Moon wines and so much more!! Open 10am – 7pm Friday & Saturday – 12pm – 5pm Sunday. (Hours may vary)
URL:https://northgrandmall.com/event/north-grand-indoor-farmers-market-32/
LOCATION:North Grand Mall\, 2801 Grand Ave.\, Ames\, IA\, 50010\, United States
CATEGORIES:NG Farmer's Market & Vendor Events
END:VEVENT
END:VCALENDAR