BEGIN:VCALENDAR
VERSION:2.0
PRODID:-//North Grand Mall - ECPv6.15.20//NONSGML v1.0//EN
CALSCALE:GREGORIAN
METHOD:PUBLISH
X-ORIGINAL-URL:https://northgrandmall.com
X-WR-CALDESC:Events for North Grand Mall
REFRESH-INTERVAL;VALUE=DURATION:PT1H
X-Robots-Tag:noindex
X-PUBLISHED-TTL:PT1H
BEGIN:VTIMEZONE
TZID:America/Chicago
BEGIN:DAYLIGHT
TZOFFSETFROM:-0600
TZOFFSETTO:-0500
TZNAME:CDT
DTSTART:20200308T080000
END:DAYLIGHT
BEGIN:STANDARD
TZOFFSETFROM:-0500
TZOFFSETTO:-0600
TZNAME:CST
DTSTART:20201101T070000
END:STANDARD
BEGIN:DAYLIGHT
TZOFFSETFROM:-0600
TZOFFSETTO:-0500
TZNAME:CDT
DTSTART:20210314T080000
END:DAYLIGHT
BEGIN:STANDARD
TZOFFSETFROM:-0500
TZOFFSETTO:-0600
TZNAME:CST
DTSTART:20211107T070000
END:STANDARD
BEGIN:DAYLIGHT
TZOFFSETFROM:-0600
TZOFFSETTO:-0500
TZNAME:CDT
DTSTART:20220313T080000
END:DAYLIGHT
BEGIN:STANDARD
TZOFFSETFROM:-0500
TZOFFSETTO:-0600
TZNAME:CST
DTSTART:20221106T070000
END:STANDARD
END:VTIMEZONE
BEGIN:VEVENT
DTSTART;TZID=America/Chicago:20211217T100000
DTEND;TZID=America/Chicago:20211219T170000
DTSTAMP:20260422T013317
CREATED:20210202T173933Z
LAST-MODIFIED:20211126T220200Z
UID:4567-1639735200-1639933200@northgrandmall.com
SUMMARY:The Marketplace at North Grand
DESCRIPTION:The Marketplace at North Grand features a variety of Home Based Businesses selling their line of products. They are coming to North Grand December 17th-19th. Shop from home based business vendors such as Pampered Chef\, Tupperware\, Tastefully Simple\, Avon and many more!!  The show runs 10am-8pm Friday & Saturday and Noon-5pm on Sunday.
URL:https://northgrandmall.com/event/the-marketplace-at-north-grand-16/
LOCATION:North Grand Mall\, 2801 Grand Ave.\, Ames\, IA\, 50010\, United States
CATEGORIES:NG Farmer's Market & Vendor Events
END:VEVENT
BEGIN:VEVENT
DTSTART;TZID=America/Chicago:20211210T100000
DTEND;TZID=America/Chicago:20211212T170000
DTSTAMP:20260422T013317
CREATED:20211123T160522Z
LAST-MODIFIED:20211123T160522Z
UID:5820-1639130400-1639328400@northgrandmall.com
SUMMARY:North Grand Indoor Farmers' Market
DESCRIPTION:Visit the North Grand Indoor Farmers’ Market this weekend. The Market offers seasonal produce\, baked goods\, honey\, popcorn\, jams\, jellies\, goat milk soaps and lotions\, Pappardelle Pasta\, Amish baskets\, rugs\, handcrafted blankets\, Prairie Moon wines and so much more!! Open 10am – 7pm Friday & Saturday – 12pm – 5pm Sunday. (Hours may vary)
URL:https://northgrandmall.com/event/north-grand-indoor-farmers-market-31/
LOCATION:North Grand Mall\, 2801 Grand Ave.\, Ames\, IA\, 50010\, United States
CATEGORIES:NG Farmer's Market & Vendor Events
END:VEVENT
BEGIN:VEVENT
DTSTART;TZID=America/Chicago:20211210T100000
DTEND;TZID=America/Chicago:20211212T170000
DTSTAMP:20260422T013317
CREATED:20210202T173620Z
LAST-MODIFIED:20211126T220235Z
UID:4565-1639130400-1639328400@northgrandmall.com
SUMMARY:The Marketplace at North Grand
DESCRIPTION:The Marketplace at North Grand features a variety of Home Based Businesses selling their line of products. They are coming to North Grand Mall December 10th-12th. Shop from home based business vendors such as Pampered Chef\, Tupperware\, Tastefully Simple\, Avon and many more!!  The show runs 10am-8pm Friday & Saturday and Noon-5pm on Sunday.
URL:https://northgrandmall.com/event/the-marketplace-at-north-grand-15/
LOCATION:North Grand Mall\, 2801 Grand Ave.\, Ames\, IA\, 50010\, United States
CATEGORIES:NG Farmer's Market & Vendor Events
END:VEVENT
BEGIN:VEVENT
DTSTART;TZID=America/Chicago:20211203T100000
DTEND;TZID=America/Chicago:20211205T170000
DTSTAMP:20260422T013317
CREATED:20211123T160446Z
LAST-MODIFIED:20220316T185015Z
UID:5818-1638525600-1638723600@northgrandmall.com
SUMMARY:North Grand Indoor Farmers' Market
DESCRIPTION:Visit the North Grand Indoor Farmers’ Market this weekend. The Market offers seasonal produce\, baked goods\, honey\, popcorn\, jams\, jellies\, goat milk soaps and lotions\, Pappardelle Pasta\, Amish baskets\, rugs\, handcrafted blankets\, Prairie Moon wines and so much more!! Open 10am – 7pm Friday & Saturday – 12pm – 5pm Sunday. (Hours may vary)
URL:https://northgrandmall.com/event/north-grand-indoor-farmers-market-30/
LOCATION:North Grand Mall\, 2801 Grand Ave.\, Ames\, IA\, 50010\, United States
CATEGORIES:NG Farmer's Market & Vendor Events
END:VEVENT
BEGIN:VEVENT
DTSTART;TZID=America/Chicago:20211203T100000
DTEND;TZID=America/Chicago:20211205T170000
DTSTAMP:20260422T013317
CREATED:20210202T173257Z
LAST-MODIFIED:20211126T220022Z
UID:4561-1638525600-1638723600@northgrandmall.com
SUMMARY:The Marketplace at North Grand
DESCRIPTION:The Marketplace at North Grand features a variety of Home Based Businesses selling their line of products. They are coming to North Grand Mall December 3rd-5th. Shop from home based business vendors such as Pampered Chef\, Tupperware\, Tastefully Simple\, Avon and many more!!  The show runs 10am-8pm Friday & Saturday and Noon-5pm on Sunday.
URL:https://northgrandmall.com/event/the-marketplace-at-north-grand-13/
LOCATION:North Grand Mall\, 2801 Grand Ave.\, Ames\, IA\, 50010\, United States
CATEGORIES:NG Farmer's Market & Vendor Events
END:VEVENT
BEGIN:VEVENT
DTSTART;TZID=America/Chicago:20211126T110000
DTEND;TZID=America/Chicago:20211128T170000
DTSTAMP:20260422T013317
CREATED:20211022T195446Z
LAST-MODIFIED:20211022T195446Z
UID:5651-1637924400-1638118800@northgrandmall.com
SUMMARY:North Grand Indoor Farmers' Market
DESCRIPTION:Visit the North Grand Indoor Farmers’ Market this weekend. The Market offers seasonal produce\, baked goods\, honey\, popcorn\, jams\, jellies\, goat milk soaps and lotions\, Pappardelle Pasta\, Amish baskets\, rugs\, handcrafted blankets\, Prairie Moon wines and so much more!! Open 11am – 7pm Friday & Saturday – 12pm – 5pm Sunday. (Hours may Vary)
URL:https://northgrandmall.com/event/north-grand-indoor-farmers-market-28/
LOCATION:North Grand Mall\, 2801 Grand Ave.\, Ames\, IA\, 50010\, United States
CATEGORIES:NG Farmer's Market & Vendor Events
END:VEVENT
BEGIN:VEVENT
DTSTART;TZID=America/Chicago:20211126T100000
DTEND;TZID=America/Chicago:20211128T170000
DTSTAMP:20260422T013317
CREATED:20210202T173205Z
LAST-MODIFIED:20211126T220124Z
UID:4559-1637920800-1638118800@northgrandmall.com
SUMMARY:The Marketplace at North Grand
DESCRIPTION:The Marketplace at North Grand features a variety of Home Based Businesses selling their line of products. They are coming to North Grand Mall November 26th – 28th. Shop from home based business vendors such as Pampered Chef\, Tupperware\, Tastefully Simple\, Avon and many more!!  The show runs 10am-8pm Friday & Saturday and Noon-5pm on Sunday.
URL:https://northgrandmall.com/event/the-marketplace-at-north-grand-12/
LOCATION:North Grand Mall\, 2801 Grand Ave.\, Ames\, IA\, 50010\, United States
CATEGORIES:NG Farmer's Market & Vendor Events
END:VEVENT
BEGIN:VEVENT
DTSTART;TZID=America/Chicago:20211120T110000
DTEND;TZID=America/Chicago:20211121T170000
DTSTAMP:20260422T013317
CREATED:20211104T155328Z
LAST-MODIFIED:20211104T155328Z
UID:5682-1637406000-1637514000@northgrandmall.com
SUMMARY:Jordan's Sports Cards\, Comics & Memorabilia Show
DESCRIPTION:Join us Saturday and Sunday for Jordan’s Sports Cards\, Comics & Memorabilia Show at North Grand Mall! There will be an array of vintage and current sports cards\, comics and memorabilia. Multiple vendors with a large variety of collectables!  The Show runs 11am – 8pm on Saturday and Noon – 5pm on Sunday.
URL:https://northgrandmall.com/event/jordans-sports-cards-comics-memorabilia-show-5/
LOCATION:North Grand Mall\, 2801 Grand Ave.\, Ames\, IA\, 50010\, United States
CATEGORIES:NG Farmer's Market & Vendor Events
END:VEVENT
BEGIN:VEVENT
DTSTART;TZID=America/Chicago:20211119T110000
DTEND;TZID=America/Chicago:20211121T170000
DTSTAMP:20260422T013317
CREATED:20211022T195353Z
LAST-MODIFIED:20211123T160358Z
UID:5649-1637319600-1637514000@northgrandmall.com
SUMMARY:North Grand Indoor Farmers' Market
DESCRIPTION:Visit the North Grand Indoor Farmers’ Market this weekend. The Market offers seasonal produce\, baked goods\, honey\, popcorn\, jams\, jellies\, goat milk soaps and lotions\, Pappardelle Pasta\, Amish baskets\, rugs\, handcrafted blankets\, Prairie Moon wines and so much more!! Open 10am – 7pm Friday & Saturday – 12pm – 5pm Sunday. (Hours may vary)
URL:https://northgrandmall.com/event/north-grand-indoor-farmers-market-27/
LOCATION:North Grand Mall\, 2801 Grand Ave.\, Ames\, IA\, 50010\, United States
CATEGORIES:NG Farmer's Market & Vendor Events
END:VEVENT
BEGIN:VEVENT
DTSTART;TZID=America/Chicago:20211112T110000
DTEND;TZID=America/Chicago:20211114T170000
DTSTAMP:20260422T013317
CREATED:20211022T195303Z
LAST-MODIFIED:20211022T195303Z
UID:5647-1636714800-1636909200@northgrandmall.com
SUMMARY:North Grand Indoor Farmers' Market
DESCRIPTION:Visit the North Grand Indoor Farmers’ Market this weekend. The Market offers seasonal produce\, baked goods\, honey\, popcorn\, jams\, jellies\, goat milk soaps and lotions\, Pappardelle Pasta\, Amish baskets\, rugs\, handcrafted blankets\, Prairie Moon wines and so much more!! Open 11am – 7pm Friday & Saturday – 12pm – 5pm Sunday. (Hours may vary)
URL:https://northgrandmall.com/event/north-grand-indoor-farmers-market-26/
LOCATION:North Grand Mall\, 2801 Grand Ave.\, Ames\, IA\, 50010\, United States
CATEGORIES:NG Farmer's Market & Vendor Events
END:VEVENT
BEGIN:VEVENT
DTSTART;TZID=America/Chicago:20211105T110000
DTEND;TZID=America/Chicago:20211107T170000
DTSTAMP:20260422T013317
CREATED:20211022T195212Z
LAST-MODIFIED:20211022T195212Z
UID:5645-1636110000-1636304400@northgrandmall.com
SUMMARY:North Grand Indoor Farmers' Market
DESCRIPTION:Visit the North Grand Indoor Farmers’ Market this weekend. The Market offers seasonal produce\, baked goods\, honey\, popcorn\, jams\, jellies\, goat milk soaps and lotions\, Pappardelle Pasta\, Amish baskets\, rugs\, handcrafted blankets\, Prairie Moon wines and so much more!! Open 11am – 7pm Friday & Saturday – 12pm – 5pm Sunday. (Hours may vary)
URL:https://northgrandmall.com/event/north-grand-indoor-farmers-market-25/
LOCATION:North Grand Mall\, 2801 Grand Ave.\, Ames\, IA\, 50010\, United States
CATEGORIES:NG Farmer's Market & Vendor Events
END:VEVENT
BEGIN:VEVENT
DTSTART;TZID=America/Chicago:20211030T110000
DTEND;TZID=America/Chicago:20211031T170000
DTSTAMP:20260422T013317
CREATED:20210929T212939Z
LAST-MODIFIED:20211008T194408Z
UID:5577-1635591600-1635699600@northgrandmall.com
SUMMARY:Jordan's Sports Cards\, Comics & Memorabilia Show
DESCRIPTION:Join us Saturday and Sunday for Jordan’s Sports Cards\, Comics & Memorabilia Show at North Grand Mall! There will be an array of vintage and current sports cards\, comics and memorabilia. Multiple vendors with a large variety of collectables!  The Show runs 11am – 8pm on Saturday and Noon – 5pm on Sunday.
URL:https://northgrandmall.com/event/jordans-sports-cards-comics-memorabilia-show-4/
LOCATION:North Grand Mall\, 2801 Grand Ave.\, Ames\, IA\, 50010\, United States
CATEGORIES:NG Farmer's Market & Vendor Events
END:VEVENT
BEGIN:VEVENT
DTSTART;TZID=America/Chicago:20211029T110000
DTEND;TZID=America/Chicago:20211031T170000
DTSTAMP:20260422T013317
CREATED:20211022T195007Z
LAST-MODIFIED:20211022T195007Z
UID:5641-1635505200-1635699600@northgrandmall.com
SUMMARY:North Grand Indoor Farmers' Market
DESCRIPTION:Visit the North Grand Indoor Farmers’ Market this weekend. The Market offers seasonal produce\, baked goods\, honey\, popcorn\, jams\, jellies\, goat milk soaps and lotions\, Pappardelle Pasta\, Amish baskets\, rugs\, handcrafted blankets\, Prairie Moon wines and so much more!! Open 11am – 7pm Friday & Saturday – 12pm – 5pm Sunday. (Hours may vary)
URL:https://northgrandmall.com/event/north-grand-indoor-farmers-market-10/
LOCATION:North Grand Mall\, 2801 Grand Ave.\, Ames\, IA\, 50010\, United States
CATEGORIES:NG Farmer's Market & Vendor Events
END:VEVENT
BEGIN:VEVENT
DTSTART;TZID=America/Chicago:20211022T110000
DTEND;TZID=America/Chicago:20211024T170000
DTSTAMP:20260422T013317
CREATED:20211022T194741Z
LAST-MODIFIED:20211022T194741Z
UID:5635-1634900400-1635094800@northgrandmall.com
SUMMARY:North Grand Indoor Farmers' Market
DESCRIPTION:Visit the North Grand Indoor Farmers’ Market this weekend. The Market offers seasonal produce\, baked goods\, honey\, popcorn\, jams\, jellies\, goat milk soaps and lotions\, Pappardelle Pasta\, Amish baskets\, rugs\, handcrafted blankets\, Prairie Moon wines and so much more!! Open 11am – 7pm Friday & Saturday – 12pm – 5pm Sunday. (Hours may vary)
URL:https://northgrandmall.com/event/north-grand-indoor-farmers-market-7/
LOCATION:North Grand Mall\, 2801 Grand Ave.\, Ames\, IA\, 50010\, United States
CATEGORIES:NG Farmer's Market & Vendor Events
END:VEVENT
BEGIN:VEVENT
DTSTART;TZID=America/Chicago:20211015T110000
DTEND;TZID=America/Chicago:20211017T170000
DTSTAMP:20260422T013317
CREATED:20211022T194918Z
LAST-MODIFIED:20211022T194918Z
UID:5639-1634295600-1634490000@northgrandmall.com
SUMMARY:North Grand Indoor Farmers' Market
DESCRIPTION:Visit the North Grand Indoor Farmers’ Market this weekend. The Market offers seasonal produce\, baked goods\, honey\, popcorn\, jams\, jellies\, goat milk soaps and lotions\, Pappardelle Pasta\, Amish baskets\, rugs\, handcrafted blankets\, Prairie Moon wines and so much more!! Open 11am – 7pm Friday & Saturday – 12pm – 5pm Sunday. (Hours may vary)
URL:https://northgrandmall.com/event/north-grand-indoor-farmers-market-9/
LOCATION:North Grand Mall\, 2801 Grand Ave.\, Ames\, IA\, 50010\, United States
CATEGORIES:NG Farmer's Market & Vendor Events
END:VEVENT
BEGIN:VEVENT
DTSTART;TZID=America/Chicago:20211015T110000
DTEND;TZID=America/Chicago:20211017T170000
DTSTAMP:20260422T013317
CREATED:20210202T172543Z
LAST-MODIFIED:20210202T172543Z
UID:4552-1634295600-1634490000@northgrandmall.com
SUMMARY:The Marketplace at North Grand
DESCRIPTION:The Marketplace at North Grand features a variety of Home Based Businesses selling their line of products. They are coming to North Grand Mall October 15th-17th. Shop from home based business vendors such as Pampered Chef\, Tupperware\, Tastefully Simple\, Avon and many more!!  The show runs 11am-7pm Friday & Saturday and Noon-5pm on Sunday.
URL:https://northgrandmall.com/event/the-marketplace-at-north-grand-11/
LOCATION:North Grand Mall\, 2801 Grand Ave.\, Ames\, IA\, 50010\, United States
CATEGORIES:NG Farmer's Market & Vendor Events
END:VEVENT
BEGIN:VEVENT
DTSTART;TZID=America/Chicago:20211008T110000
DTEND;TZID=America/Chicago:20211010T170000
DTSTAMP:20260422T013317
CREATED:20211022T195556Z
LAST-MODIFIED:20211022T195556Z
UID:5653-1633690800-1633885200@northgrandmall.com
SUMMARY:North Grand Indoor Farmers' Market
DESCRIPTION:Visit the North Grand Indoor Farmers’ Market this weekend. The Market offers seasonal produce\, baked goods\, honey\, popcorn\, jams\, jellies\, goat milk soaps and lotions\, Pappardelle Pasta\, Amish baskets\, rugs\, handcrafted blankets\, Prairie Moon wines and so much more!! Open 11am – 7pm Friday & Saturday – 12pm – 5pm Sunday. (Hours may vary)
URL:https://northgrandmall.com/event/north-grand-indoor-farmers-market-29/
LOCATION:North Grand Mall\, 2801 Grand Ave.\, Ames\, IA\, 50010\, United States
CATEGORIES:NG Farmer's Market & Vendor Events
END:VEVENT
BEGIN:VEVENT
DTSTART;TZID=America/Chicago:20211008T110000
DTEND;TZID=America/Chicago:20211010T170000
DTSTAMP:20260422T013317
CREATED:20211022T195117Z
LAST-MODIFIED:20211022T195117Z
UID:5643-1633690800-1633885200@northgrandmall.com
SUMMARY:North Grand Indoor Farmers' Market
DESCRIPTION:Visit the North Grand Indoor Farmers’ Market this weekend. The Market offers seasonal produce\, baked goods\, honey\, popcorn\, jams\, jellies\, goat milk soaps and lotions\, Pappardelle Pasta\, Amish baskets\, rugs\, handcrafted blankets\, Prairie Moon wines and so much more!! Open 11am – 7pm Friday & Saturday – 12pm – 5pm Sunday. (Hours may vary)
URL:https://northgrandmall.com/event/north-grand-indoor-farmers-market-24/
LOCATION:North Grand Mall\, 2801 Grand Ave.\, Ames\, IA\, 50010\, United States
CATEGORIES:NG Farmer's Market & Vendor Events
END:VEVENT
BEGIN:VEVENT
DTSTART;TZID=America/Chicago:20211001T110000
DTEND;TZID=America/Chicago:20211003T170000
DTSTAMP:20260422T013317
CREATED:20211022T194825Z
LAST-MODIFIED:20211022T194825Z
UID:5637-1633086000-1633280400@northgrandmall.com
SUMMARY:North Grand Indoor Farmers' Market
DESCRIPTION:Visit the North Grand Indoor Farmers’ Market this weekend. The Market offers seasonal produce\, baked goods\, honey\, popcorn\, jams\, jellies\, goat milk soaps and lotions\, Pappardelle Pasta\, Amish baskets\, rugs\, handcrafted blankets\, Prairie Moon wines and so much more!! Open 11am – 7pm Friday & Saturday – 12pm – 5pm Sunday. (Hours may vary)
URL:https://northgrandmall.com/event/north-grand-indoor-farmers-market-8/
LOCATION:North Grand Mall\, 2801 Grand Ave.\, Ames\, IA\, 50010\, United States
CATEGORIES:NG Farmer's Market & Vendor Events
END:VEVENT
BEGIN:VEVENT
DTSTART;TZID=America/Chicago:20210924T110000
DTEND;TZID=America/Chicago:20210926T170000
DTSTAMP:20260422T013317
CREATED:20210927T214505Z
LAST-MODIFIED:20210927T214505Z
UID:5571-1632481200-1632675600@northgrandmall.com
SUMMARY:North Grand Indoor Farmers' Market
DESCRIPTION:Visit the North Grand Indoor Farmers’ Market this weekend. The Market offers seasonal produce\, baked goods\, honey\, popcorn\, jams\, jellies\, goat milk soaps and lotions\, Pappardelle Pasta\, Amish baskets\, rugs\, handcrafted blankets\, Prairie Moon wines and so much more!! Open 11am – 7pm Friday & Saturday – 12pm – 5pm Sunday.
URL:https://northgrandmall.com/event/north-grand-indoor-farmers-market-6/
LOCATION:North Grand Mall\, 2801 Grand Ave.\, Ames\, IA\, 50010\, United States
CATEGORIES:NG Farmer's Market & Vendor Events
END:VEVENT
BEGIN:VEVENT
DTSTART;TZID=America/Chicago:20210917T110000
DTEND;TZID=America/Chicago:20210919T170000
DTSTAMP:20260422T013317
CREATED:20210927T214422Z
LAST-MODIFIED:20210927T214422Z
UID:5569-1631876400-1632070800@northgrandmall.com
SUMMARY:North Grand Indoor Farmers' Market
DESCRIPTION:Visit the North Grand Indoor Farmers’ Market this weekend. The Market offers seasonal produce\, baked goods\, honey\, popcorn\, jams\, jellies\, goat milk soaps and lotions\, Pappardelle Pasta\, Amish baskets\, rugs\, handcrafted blankets\, Prairie Moon wines and so much more!! Open 11am – 7pm Friday & Saturday – 12pm – 5pm Sunday.
URL:https://northgrandmall.com/event/north-grand-indoor-farmers-market-5/
LOCATION:North Grand Mall\, 2801 Grand Ave.\, Ames\, IA\, 50010\, United States
CATEGORIES:NG Farmer's Market & Vendor Events
END:VEVENT
BEGIN:VEVENT
DTSTART;TZID=America/Chicago:20210917T110000
DTEND;TZID=America/Chicago:20210919T170000
DTSTAMP:20260422T013317
CREATED:20210202T172359Z
LAST-MODIFIED:20210514T212131Z
UID:4550-1631876400-1632070800@northgrandmall.com
SUMMARY:The Marketplace at North Grand
DESCRIPTION:The Marketplace at North Grand features a variety of Home Based Businesses selling their line of products. They are coming to North Grand Mall September 17th-19th. Shop from home based business vendors such as Pampered Chef\, Tupperware\, Tastefully Simple\, Avon and many more!!  The show runs 11am -7pm Friday & Saturday and Noon – 5pm on Sunday.
URL:https://northgrandmall.com/event/the-marketplace-at-north-grand-10/
LOCATION:North Grand Mall\, 2801 Grand Ave.\, Ames\, IA\, 50010\, United States
CATEGORIES:NG Farmer's Market & Vendor Events
END:VEVENT
BEGIN:VEVENT
DTSTART;TZID=America/Chicago:20210910T110000
DTEND;TZID=America/Chicago:20210911T170000
DTSTAMP:20260422T013317
CREATED:20210927T214326Z
LAST-MODIFIED:20210927T214326Z
UID:5567-1631271600-1631379600@northgrandmall.com
SUMMARY:North Grand Indoor Farmers' Market
DESCRIPTION:Visit the North Grand Indoor Farmers’ Market this weekend. The Market offers seasonal produce\, baked goods\, honey\, popcorn\, jams\, jellies\, goat milk soaps and lotions\, Pappardelle Pasta\, Amish baskets\, rugs\, handcrafted blankets\, Prairie Moon wines and so much more!! Open 11am – 7pm Friday & Saturday – 12pm – 5pm Sunday.
URL:https://northgrandmall.com/event/north-grand-indoor-farmers-market-4/
LOCATION:North Grand Mall\, 2801 Grand Ave.\, Ames\, IA\, 50010\, United States
CATEGORIES:NG Farmer's Market & Vendor Events
END:VEVENT
BEGIN:VEVENT
DTSTART;TZID=America/Chicago:20210903T110000
DTEND;TZID=America/Chicago:20210904T170000
DTSTAMP:20260422T013317
CREATED:20210927T214026Z
LAST-MODIFIED:20210927T214026Z
UID:5565-1630666800-1630774800@northgrandmall.com
SUMMARY:North Grand Indoor Farmers' Market
DESCRIPTION:Visit the North Grand Indoor Farmers’ Market this weekend. The Market offers seasonal produce\, baked goods\, honey\, popcorn\, jams\, jellies\, goat milk soaps and lotions\, Pappardelle Pasta\, Amish baskets\, rugs\, handcrafted blankets\, Prairie Moon wines and so much more!! Open 11am – 7pm Friday & Saturday – 12pm – 5pm Sunday.
URL:https://northgrandmall.com/event/north-grand-indoor-farmers-market-3/
LOCATION:North Grand Mall\, 2801 Grand Ave.\, Ames\, IA\, 50010\, United States
CATEGORIES:NG Farmer's Market & Vendor Events
END:VEVENT
BEGIN:VEVENT
DTSTART;TZID=America/Chicago:20210828T110000
DTEND;TZID=America/Chicago:20210829T170000
DTSTAMP:20260422T013317
CREATED:20210202T175420Z
LAST-MODIFIED:20210429T214229Z
UID:4577-1630148400-1630256400@northgrandmall.com
SUMMARY:Jordan's Sports Cards\, Comics and Memorabilia Show
DESCRIPTION:Join us Saturday and Sunday for Jordan’s Sports Cards\, Comics & Memorabilia Show at North Grand Mall! There will be an array of vintage and current sports cards\, comics and memorabilia. Multiple vendors with a large variety of collectables!  The Show runs 11am – 8pm on Saturday and Noon – 5pm on Sunday.
URL:https://northgrandmall.com/event/jordans-sports-cards-comics-and-memorabilia-show/
LOCATION:North Grand Mall\, 2801 Grand Ave.\, Ames\, IA\, 50010\, United States
CATEGORIES:NG Farmer's Market & Vendor Events
END:VEVENT
BEGIN:VEVENT
DTSTART;TZID=America/Chicago:20210828T080000
DTEND;TZID=America/Chicago:20210828T123000
DTSTAMP:20260422T013317
CREATED:20210720T203931Z
LAST-MODIFIED:20210816T215326Z
UID:5470-1630137600-1630153800@northgrandmall.com
SUMMARY:North Grand Outdoor Farmers' Market
DESCRIPTION:Visit the North Grand Outdoor Farmers’ Market every Saturday from 8:00am-12:30pm\, located just north of JCPenney. The Market offers seasonal produce\, plants\, eggs\, spring veggies and so much more. Call or text 515-231-9036 for additional information.
URL:https://northgrandmall.com/event/north-grand-outdoor-farmers-market-18/
LOCATION:North Grand Mall\, 2801 Grand Ave.\, Ames\, IA\, 50010\, United States
CATEGORIES:NG Farmer's Market & Vendor Events
END:VEVENT
BEGIN:VEVENT
DTSTART;TZID=America/Chicago:20210827T110000
DTEND;TZID=America/Chicago:20210829T170000
DTSTAMP:20260422T013317
CREATED:20210810T202648Z
LAST-MODIFIED:20210810T202900Z
UID:5498-1630062000-1630256400@northgrandmall.com
SUMMARY:North Grand Farmers' Market
DESCRIPTION:Visit the North Grand Indoor Farmers’ Market this weekend. The Market offers seasonal produce\, baked goods\, honey\, popcorn\, jams\, jellies\, goat milk soaps and lotions\, Pappardelle Pasta\, Amish baskets\, rugs\, handcrafted blankets\, Prairie Moon wines and so much more!! Open 11am – 7pm Friday & Saturday – 12pm – 5pm Sunday.
URL:https://northgrandmall.com/event/north-grand-farmers-market/
LOCATION:North Grand Mall\, 2801 Grand Ave.\, Ames\, IA\, 50010\, United States
CATEGORIES:NG Farmer's Market & Vendor Events
END:VEVENT
BEGIN:VEVENT
DTSTART;TZID=America/Chicago:20210821T080000
DTEND;TZID=America/Chicago:20210821T123000
DTSTAMP:20260422T013317
CREATED:20210720T203847Z
LAST-MODIFIED:20210804T204310Z
UID:5468-1629532800-1629549000@northgrandmall.com
SUMMARY:North Grand Outdoor Farmers' Market
DESCRIPTION:Visit the North Grand Outdoor Farmers’ Market every Saturday from 8:00am-12:30pm\, located just north of JCPenney. The Market offers seasonal produce\, plants\, eggs\, spring veggies and so much more. Call or text 515-231-9036 for additional information.
URL:https://northgrandmall.com/event/north-grand-farmers-outdoor-market/
LOCATION:North Grand Mall\, 2801 Grand Ave.\, Ames\, IA\, 50010\, United States
CATEGORIES:NG Farmer's Market & Vendor Events
END:VEVENT
BEGIN:VEVENT
DTSTART;TZID=America/Chicago:20210820T110000
DTEND;TZID=America/Chicago:20210822T170000
DTSTAMP:20260422T013317
CREATED:20210810T202549Z
LAST-MODIFIED:20210810T202549Z
UID:5496-1629457200-1629651600@northgrandmall.com
SUMMARY:North Grand Indoor Farmers' Market
DESCRIPTION:Visit the North Grand Indoor Farmers’ Market this weekend. The Market offers seasonal produce\, baked goods\, honey\, popcorn\, jams\, jellies\, goat milk soaps and lotions\, Pappardelle Pasta\, Amish baskets\, rugs\, handcrafted blankets\, Prairie Moon wines and so much more!! Open 11am – 7pm Friday & Saturday – 12pm – 5pm Sunday.
URL:https://northgrandmall.com/event/north-grand-indoor-farmers-market-23/
LOCATION:North Grand Mall\, 2801 Grand Ave.\, Ames\, IA\, 50010\, United States
CATEGORIES:NG Farmer's Market & Vendor Events
END:VEVENT
BEGIN:VEVENT
DTSTART;TZID=America/Chicago:20210814T080000
DTEND;TZID=America/Chicago:20210814T123000
DTSTAMP:20260422T013317
CREATED:20210720T183237Z
LAST-MODIFIED:20210720T183237Z
UID:5466-1628928000-1628944200@northgrandmall.com
SUMMARY:North Grand Outdoor Farmers' Market
DESCRIPTION:Visit the North Grand Outdoor Farmers’ Market every Saturday from 8:00am-12:30pm\, located just north of JCPenney. The Market offers seasonal produce\, plants\, eggs\, spring veggies and so much more. Call or text 515-231-9036 for additional information.
URL:https://northgrandmall.com/event/north-grand-outdoor-farmers-market-17/
LOCATION:North Grand Mall\, 2801 Grand Ave.\, Ames\, IA\, 50010\, United States
CATEGORIES:NG Farmer's Market & Vendor Events
END:VEVENT
END:VCALENDAR