BEGIN:VCALENDAR
VERSION:2.0
PRODID:-//North Grand Mall - ECPv6.15.20//NONSGML v1.0//EN
CALSCALE:GREGORIAN
METHOD:PUBLISH
X-WR-CALNAME:North Grand Mall
X-ORIGINAL-URL:https://northgrandmall.com
X-WR-CALDESC:Events for North Grand Mall
REFRESH-INTERVAL;VALUE=DURATION:PT1H
X-Robots-Tag:noindex
X-PUBLISHED-TTL:PT1H
BEGIN:VTIMEZONE
TZID:America/Chicago
BEGIN:DAYLIGHT
TZOFFSETFROM:-0600
TZOFFSETTO:-0500
TZNAME:CDT
DTSTART:20230312T080000
END:DAYLIGHT
BEGIN:STANDARD
TZOFFSETFROM:-0500
TZOFFSETTO:-0600
TZNAME:CST
DTSTART:20231105T070000
END:STANDARD
BEGIN:DAYLIGHT
TZOFFSETFROM:-0600
TZOFFSETTO:-0500
TZNAME:CDT
DTSTART:20240310T080000
END:DAYLIGHT
BEGIN:STANDARD
TZOFFSETFROM:-0500
TZOFFSETTO:-0600
TZNAME:CST
DTSTART:20241103T070000
END:STANDARD
BEGIN:DAYLIGHT
TZOFFSETFROM:-0600
TZOFFSETTO:-0500
TZNAME:CDT
DTSTART:20250309T080000
END:DAYLIGHT
BEGIN:STANDARD
TZOFFSETFROM:-0500
TZOFFSETTO:-0600
TZNAME:CST
DTSTART:20251102T070000
END:STANDARD
END:VTIMEZONE
BEGIN:VEVENT
DTSTART;VALUE=DATE:20241128
DTEND;VALUE=DATE:20241129
DTSTAMP:20260419T080518
CREATED:20241126T182553Z
LAST-MODIFIED:20241126T182706Z
UID:7014-1732752000-1732838399@northgrandmall.com
SUMMARY:Thanksgiving - North Grand Mall Closed
DESCRIPTION:Happy Thanksgiving to one and all!! \nNorth Grand Mall will be Closed on Thanksgiving\, Thursday\, November 28th. We will reopen on Black Friday at 8am. Planet Fitness is open until Noon\, and North Grand Cinema will be open at 2pm. Please use SE and SW entrances to access the theater. Check their respective websites for more details.
URL:https://northgrandmall.com/event/thanksgiving-north-grand-mall-closed/
LOCATION:North Grand Mall\, 2801 Grand Ave.\, Ames\, IA\, 50010\, United States
CATEGORIES:Mall Events
END:VEVENT
BEGIN:VEVENT
DTSTART;TZID=America/Chicago:20241129T040000
DTEND;TZID=America/Chicago:20241129T200000
DTSTAMP:20260419T080518
CREATED:20241126T183308Z
LAST-MODIFIED:20241126T183308Z
UID:7017-1732852800-1732910400@northgrandmall.com
SUMMARY:Black Friday Shopping at North Grand
DESCRIPTION:Bring on the Black Friday deals at North Grand Mall! Here are store opening times: \nEARLY OPENINGS: \nDunham’s Sports – Opens at 4am – Use North Doors until 6am \nJCPenney’s – Opens at 5am with special deals happening throughout the day!  \nBath & Body Works – Opens at 6am with specials on Holiday gifts for you and yours! \nThe Mall and the rest of the stores will be open at 8am.   \nHappy Black Friday shopping!!
URL:https://northgrandmall.com/event/black-friday-shopping-at-north-grand/
LOCATION:North Grand Mall\, 2801 Grand Ave.\, Ames\, IA\, 50010\, United States
CATEGORIES:Mall Events
END:VEVENT
BEGIN:VEVENT
DTSTART;TZID=America/Chicago:20241129T080000
DTEND;TZID=America/Chicago:20241129T200000
DTSTAMP:20260419T080518
CREATED:20241126T183852Z
LAST-MODIFIED:20241126T183852Z
UID:7019-1732867200-1732910400@northgrandmall.com
SUMMARY:North Grand Indoor Farmers' Market
DESCRIPTION:Visit the North Grand Indoor Farmers’ Market for the best of Black Friday shopping! The Market offers seasonal produce\, baked goods\, honey\, popcorn\, jams\, jellies\, goat milk soaps and lotions\, Pappardelle Pasta\, Amish baskets\, rugs\, handcrafted blankets\, Prairie Moon wines and so much more!! Open 8am – 8pm on Black Friday!
URL:https://northgrandmall.com/event/north-grand-indoor-farmers-market-82/
LOCATION:North Grand Mall\, 2801 Grand Ave.\, Ames\, IA\, 50010\, United States
CATEGORIES:NG Farmer's Market & Vendor Events
END:VEVENT
BEGIN:VEVENT
DTSTART;TZID=America/Chicago:20241129T100000
DTEND;TZID=America/Chicago:20241201T170000
DTSTAMP:20260419T080518
CREATED:20240416T162153Z
LAST-MODIFIED:20240416T162153Z
UID:6883-1732874400-1733072400@northgrandmall.com
SUMMARY:The Marketplace at North Grand
DESCRIPTION:The Marketplace at North Grand features a variety of Home Based Businesses selling their line of products. They are coming to North Grand Mall this weekend. Shop from home based business vendors such as Pampered Chef\, Norwex\, Tupperware\, Tastefully Simple\, Avon and many more!! The show runs 10am-7pm Friday and Saturday and Noon-5pm on Sunday.
URL:https://northgrandmall.com/event/the-marketplace-at-north-grand-14/
LOCATION:North Grand Mall\, 2801 Grand Ave.\, Ames\, IA\, 50010\, United States
CATEGORIES:NG Farmer's Market & Vendor Events
END:VEVENT
BEGIN:VEVENT
DTSTART;TZID=America/Chicago:20241130T100000
DTEND;TZID=America/Chicago:20241201T170000
DTSTAMP:20260419T080518
CREATED:20241126T184027Z
LAST-MODIFIED:20241126T184027Z
UID:7021-1732960800-1733072400@northgrandmall.com
SUMMARY:North Grand Indoor Farmers' Market
DESCRIPTION:Visit the North Grand Indoor Farmers’ Market this weekend. The Market offers seasonal produce\, baked goods\, honey\, popcorn\, jams\, jellies\, goat milk soaps and lotions\, Pappardelle Pasta\, Amish baskets\, rugs\, handcrafted blankets\, Prairie Moon wines and so much more!! Open 10am – 7pm on Saturday and 12pm – 5pm on Sunday.
URL:https://northgrandmall.com/event/north-grand-indoor-farmers-market-83/
LOCATION:North Grand Mall\, 2801 Grand Ave.\, Ames\, IA\, 50010\, United States
CATEGORIES:NG Farmer's Market & Vendor Events
END:VEVENT
END:VCALENDAR